BEGIN:VCALENDAR
VERSION:2.0
PRODID:-//ChamberMaster//Event Calendar 2.0//EN
METHOD:PUBLISH
X-PUBLISHED-TTL:P3D
REFRESH-INTERVAL:P3D
CALSCALE:GREGORIAN
BEGIN:VEVENT
DTSTART:20150815T123000Z
DTEND:20150815T150000Z
X-MICROSOFT-CDO-ALLDAYEVENT:FALSE
SUMMARY:14th Annual Jailhouse Rock 5k
DESCRIPTION:COURSE: Out-and-back course begins at top of hill by Brookside\, past fairgrounds to correctional facility. Fast course with a downhill finish for your summer- time PR! **USATF CERTIFIED** APPLICATION: ONLINE REGISTRATION: www.active.com\, www.runsignup.com CHECK-IN: Late registration and packet pick-up starting at 7:15AM RACE BEGINS: 8:30 AM AWARDS: Male & Female overall\; Age group awards by 5-year categories INFORMATION: Carolyn McGraw\, 885-4000 or admin@brooksidemuseum.org At Brookside\, www.brooksidemuseum.org
X-ALT-DESC;FMTTYPE=text/html:COURSE: Out-and-back course begins at top of hill by Brookside\, past fairgrounds to correctional facility. Fast course with a downhill finish for your summer- time PR! **USATF CERTIFIED** APPLICATION: ONLINE REGISTRATION: www.active.com\, www.runsignup.com CHECK-IN: Late registration and packet pick-up starting at 7:15AM RACE BEGINS: 8:30 AM AWARDS: Male &amp\; Female overall\; Age group awards by 5-year categories INFORMATION: Carolyn McGraw\, 885-4000 or admin@brooksidemuseum.org At Brookside\, www.brooksidemuseum.org
LOCATION:Brookside Museum\, Ballston Spa\, NY
UID:e.2254.6921
SEQUENCE:3
DTSTAMP:20260423T023930Z
URL:https://chamber.saratoga.org/events/details/14th-annual-jailhouse-rock-5k-08-15-2015-6921
END:VEVENT

END:VCALENDAR
