BEGIN:VCALENDAR
VERSION:2.0
PRODID:-//ChamberMaster//Event Calendar 2.0//EN
METHOD:PUBLISH
X-PUBLISHED-TTL:P3D
REFRESH-INTERVAL:P3D
CALSCALE:GREGORIAN
BEGIN:VEVENT
DTSTART:20160205T230000Z
DTEND:20160206T020000Z
X-MICROSOFT-CDO-ALLDAYEVENT:FALSE
SUMMARY:12th Annual Winterfest Wine & Beer Tasting
DESCRIPTION:Sample a selection of delicious & affordable wines and beers paired with a lavish display of savory hors d'oeuvres. Proceeds to benefit the Wesley Foundation and Relay for Life: American Cancer Society
X-ALT-DESC;FMTTYPE=text/html:Sample a selection of delicious &amp\; affordable wines and beers paired with a lavish display of savory hors d&#39\;oeuvres. Proceeds to benefit the Wesley Foundation and Relay for Life: American Cancer Society
LOCATION:Holiday Inn Saratoga Springs
UID:e.2254.13624
SEQUENCE:3
DTSTAMP:20260422T022703Z
URL:https://chamber.saratoga.org/events/details/12th-annual-winterfest-wine-beer-tasting-02-05-2016-13624
END:VEVENT

END:VCALENDAR
