BEGIN:VCALENDAR
VERSION:2.0
PRODID:-//ChamberMaster//Event Calendar 2.0//EN
METHOD:PUBLISH
X-PUBLISHED-TTL:P3D
REFRESH-INTERVAL:P3D
CALSCALE:GREGORIAN
BEGIN:VEVENT
DTSTART:20140816T103000Z
DTEND:20140816T130000Z
X-MICROSOFT-CDO-ALLDAYEVENT:FALSE
SUMMARY:12th Annual Jailhouse Rock 5k - 08/16/2014
DESCRIPTION:5k Race to support museum collections and educational programsThe 12th Annual Jailhouse Rock 5k Race will take place on Saturday\, August 16 at 8:30 am. Check in or day-of registration begins at 7:30am. \n\nThe out-and-back course follows Fairground Avenue\, beginning at the top of the hill by the Fairgrounds\, continuing out to the correctional facility and then circling back. The 3.1 mile course ends with a downhill finish right outside Brookside. This course is USATF CERTIFIED. Only 200 t-shirts available to runners\, so register now!\n \nRegistration rates are $22 per person through 8/12/2014\; $27 8/13/2014 through 8/16/2013.  Join with a friend or family member and get a discount! $35 for two entries through 8/12/2014*\n*Entries MUST be submitted together to be eligible and this rate is only valid through 8/12/2014. NOT VALID for day of race registrations.\n\nThis 5K supports education programs offered to thousands of Capital Region school children and is sponsored by Ballston Spa National Bank.\n \nRegister online at active.com or download an application from www.brooksidemuseum.org.
X-ALT-DESC;FMTTYPE=text/html:<p>5k Race to support museum collections and educational programs</p>The 12th Annual Jailhouse Rock 5k Race will take place on Saturday\, August 16 at 8:30 am. Check in or day-of registration begins at 7:30am.&nbsp\;<br><br>The out-and-back course follows Fairground Avenue\, beginning at the top of the hill by the Fairgrounds\, continuing out to the correctional facility and then circling back. The 3.1 mile course ends with a downhill finish right outside Brookside. This course is USATF CERTIFIED. Only 200 t-shirts available to runners\, so register now!<br>&nbsp\;<br>Registration rates are $22 per person through 8/12/2014\; $27 8/13/2014 through 8/16/2013. &nbsp\;Join with a friend or family member and get a discount! $35 for two entries through 8/12/2014*<br>*Entries MUST be submitted together to be eligible and this rate is only valid through 8/12/2014. NOT VALID for day of race registrations.<br><br>This 5K supports education programs offered to thousands of Capital Region school children and is sponsored by Ballston Spa National Bank.<br>&nbsp\;<br>Register online at active.com or download an application from www.brooksidemuseum.org.&nbsp\;<br><div><br></div>
LOCATION:Brookside Museum
UID:e.2254.3294
SEQUENCE:3
DTSTAMP:20260424T140310Z
URL:https://chamber.saratoga.org/events/details/12th-annual-jailhouse-rock-5k-08-16-2014-08-16-2014-3294
END:VEVENT

END:VCALENDAR
