BEGIN:VCALENDAR
VERSION:2.0
PRODID:-//ChamberMaster//Event Calendar 2.0//EN
METHOD:PUBLISH
X-PUBLISHED-TTL:P3D
REFRESH-INTERVAL:P3D
CALSCALE:GREGORIAN
BEGIN:VEVENT
DTSTART;VALUE=DATE:20150927
DTEND;VALUE=DATE:20150928
TRANSP:TRANSPARENT
X-MICROSOFT-CDO-ALLDAYEVENT:TRUE
SUMMARY:12th Annual Crossings 5k Challenge & Kids Runs
DESCRIPTION:NEW LOOK\, NEW PARTNER\, SAME GREAT EVENT! Join Colonie Youth Center\, Inc. and CAP COM Federal Credit Union this year for the 12th Annual Crossings 5K Challenge and Kids Runs. All proceeds benefit the CAP COM Cares Foundation?s mission to nurture the community through health and wellness programs\, educational initiatives and services that support children and underprivileged families as well as CYC?s scholarship assistance program which helps provide Ciccotti Center opportunities\, school-age childcare programs and counseling services to all families. EVENT DETAILS:  Registration Opens: 8 a.m.  5K Challenge Run/Walk: 10 a.m. Kids 1/4 Mile Fun Run: 10:45 a.m.  Kids 1 Mile Competitive Run: 10:45 a.m.
X-ALT-DESC;FMTTYPE=text/html:NEW LOOK\, NEW PARTNER\, SAME GREAT EVENT! Join Colonie Youth Center\, Inc. and CAP COM Federal Credit Union this year for the 12th Annual Crossings 5K Challenge and Kids Runs. All proceeds benefit the CAP COM Cares Foundation?s mission to nurture the community through health and wellness programs\, educational initiatives and services that support children and underprivileged families as well as CYC?s scholarship assistance program which helps provide Ciccotti Center opportunities\, school-age childcare programs and counseling services to all families. EVENT DETAILS:&nbsp\; Registration Opens: 8 a.m.&nbsp\; 5K Challenge Run/Walk: 10 a.m. Kids 1/4 Mile Fun Run: 10:45 a.m.&nbsp\; Kids 1 Mile Competitive Run: 10:45 a.m.
LOCATION:Rudy A. Ciccotti Family Recreation Center. 30 Aviation Road. Colonie
UID:e.2254.8365
SEQUENCE:3
DTSTAMP:20260423T005600Z
URL:https://chamber.saratoga.org/events/details/12th-annual-crossings-5k-challenge-kids-runs-09-27-2015-8365
END:VEVENT

END:VCALENDAR
