BEGIN:VCALENDAR
VERSION:2.0
PRODID:-//ChamberMaster//Event Calendar 2.0//EN
METHOD:PUBLISH
X-PUBLISHED-TTL:P3D
REFRESH-INTERVAL:P3D
CALSCALE:GREGORIAN
BEGIN:VEVENT
DTSTART:20151205T160000Z
DTEND:20151206T050000Z
X-MICROSOFT-CDO-ALLDAYEVENT:FALSE
SUMMARY:12th Annual Center Crafts Show and Sale
DESCRIPTION:Come get inspired for the Holidays and Celebrate the Arts in Saratoga.\n\nhttp://gordonfinearts.org/downloadpage.cfm\n\nCenter Crafts Show at the Art Center\n\n\n\nThe 12th Annual Center Crafts show is juried fine arts and fine crafts show taking place December 5 and 6\, 2015\, from 10 - 5 Saturday and 11 - 4 Sunday\, at the Saratoga Arts Council Center\, 320 Broadway\, in Saratoga Springs\, NY.\n\n\n\nThere will be a selection of juried artists exhibiting handmade and very Gift-able Works of Art.\n\nThe exhibitors presented are some of New England's top artists and craftspeople working in a variety of media. Handmade jewelry\, fine woven garments\, hand crafted wood vessels and utensils\, sculpture\, functional stoneware and raku pottery\, hand made quilts\, mixed media paintings and much more will be available for sale.\n\n\n\nAdmission is FREE and refreshments are served.\n\nFor more information\, gordonfinearts.org or 518 852-6478\n\n\n\nCome get inspired for the Holidays and Celebrate the Arts in Saratoga.\n\nFor more information\, www.gordonfinearts.org or 518 852-6478
X-ALT-DESC;FMTTYPE=text/html:<p>Come get inspired for the Holidays and Celebrate the Arts in Saratoga.</p>\n\n<p><a href="http://gordonfinearts.org/downloadpage.cfm">http://gordonfinearts.org/downloadpage.cfm</a></p>\n\n<p><strong>Center Crafts Show at the Art Center</strong><br />\n<br />\n<strong>The 12th Annual Center Crafts show is juried fine arts and fine crafts show taking place December&nbsp\;5 and 6\, 2015\, from 10 - 5 Saturday and 11 - 4 Sunday\, at the Saratoga Arts Council Center\, 320 Broadway\, in Saratoga Springs\, NY.</strong><br />\n<br />\n<strong>There will be a selection of juried artists exhibiting handmade and very Gift-able Works of Art.<br />\nThe exhibitors presented are some of New England&#39\;s top artists and craftspeople working in a variety of media. Handmade jewelry\, fine woven garments\, hand crafted wood vessels and utensils\, sculpture\, functional stoneware and raku pottery\, hand made quilts\, mixed media paintings and much more will be available for sale.</strong><br />\n<br />\n<strong>Admission is FREE and refreshments are served.<br />\nFor more information\, <a href="http://gordonfinearts.org/">gordonfinearts.org</a> or <a href="tel:518 852-6478">518 852-6478</a></strong><br />\n<br />\n<strong>Come get inspired for the Holidays and Celebrate the Arts in Saratoga.</strong></p>\n\n<p><strong>For more information\, www.gordonfinearts.org or 518 852-6478</strong></p>\n
LOCATION:Saratoga Arts Center 320 Broadway\, Saratoga Springs\, NY 12866
UID:e.2254.1944
SEQUENCE:3
DTSTAMP:20260422T082107Z
URL:https://chamber.saratoga.org/events/details/12th-annual-center-crafts-show-and-sale-12-05-2015-1944
END:VEVENT

END:VCALENDAR
