BEGIN:VCALENDAR
VERSION:2.0
PRODID:-//ChamberMaster//Event Calendar 2.0//EN
METHOD:PUBLISH
X-PUBLISHED-TTL:P3D
REFRESH-INTERVAL:P3D
CALSCALE:GREGORIAN
BEGIN:VEVENT
DTSTART:20161112T130000Z
DTEND:20161112T170000Z
X-MICROSOFT-CDO-ALLDAYEVENT:FALSE
SUMMARY:12th Annual Breast Health Symposium: The Care Continuum
DESCRIPTION:Join us for breakfast and an informational symposium hosted by Saratoga Hospital's dedicated physicians and health care professionals to discuss the latest advances in diagnostic and treatment options for breast health.\n\nOur speakers will take you through the breast health care continuum and the development of our new Breast Care Center. This breakfast is a great opportunity to hear from our physician experts\, meet with exhibitors from various community resources\, and speak with care providers. Register by calling 518-580-2450
X-ALT-DESC;FMTTYPE=text/html:<p>Join us for breakfast and an informational symposium hosted by Saratoga Hospital&rsquo\;s dedicated physicians and health care professionals to discuss the latest advances in diagnostic and treatment options for breast health.</p>\n\n<p>Our speakers will take you through the breast health care continuum and the development of our new Breast Care Center. This breakfast is a great opportunity to hear from our physician experts\, meet with exhibitors from various community resources\, and speak with care providers. Register by calling 518-580-2450</p>\n
LOCATION:Gideon Putnam Hotel\, Saratoga Springs
UID:e.2254.20810
SEQUENCE:3
DTSTAMP:20260420T201936Z
URL:https://chamber.saratoga.org/events/details/12th-annual-breast-health-symposium-the-care-continuum-20810
END:VEVENT

END:VCALENDAR
