BEGIN:VCALENDAR
VERSION:2.0
PRODID:-//ChamberMaster//Event Calendar 2.0//EN
METHOD:PUBLISH
X-PUBLISHED-TTL:P3D
REFRESH-INTERVAL:P3D
CALSCALE:GREGORIAN
BEGIN:VEVENT
DTSTART:20141221T000000Z
DTEND:20141221T030000Z
X-MICROSOFT-CDO-ALLDAYEVENT:FALSE
SUMMARY:- 12/20/2014
DESCRIPTION:Adirondack Flames HockeySaturday Night is Hockey Night in Glens Falls. Teddy Bear Toss\, benefitting Salvation Army.
X-ALT-DESC;FMTTYPE=text/html:<p>Adirondack Flames Hockey</p><div style="font-family: Arial\, Helvetica\, sans-serif\; font-size: 16px\; line-height: normal\; background-color: rgb(255\, 255\, 255)\;">Saturday Night is Hockey Night in Glens Falls. Teddy Bear Toss\, benefitting Salvation Army.<span class="Apple-tab-span" style="white-space: pre\;"> </span></div><div><br></div>
LOCATION:Glens Falls Civic Center
UID:e.2254.2130
SEQUENCE:3
DTSTAMP:20260424T062752Z
URL:https://chamber.saratoga.org/events/details/12-20-2014-12-20-2014-2130
END:VEVENT

END:VCALENDAR
