BEGIN:VCALENDAR
VERSION:2.0
PRODID:-//ChamberMaster//Event Calendar 2.0//EN
METHOD:PUBLISH
X-PUBLISHED-TTL:P3D
REFRESH-INTERVAL:P3D
CALSCALE:GREGORIAN
BEGIN:VEVENT
DTSTART:20141215T140000Z
DTEND:20141219T180000Z
X-MICROSOFT-CDO-ALLDAYEVENT:FALSE
SUMMARY:- 12/15/2014
DESCRIPTION:For summary please see www.6sigma.us.This is a Lean Six Sigma Training session for all levels of belts and experiences. Attendees will receive the level of training and certification for which they register. These levels include: White Belt\, Yellow Belt\, Green Belt\, Black Belt and Master Black Belt.Please see the website www.6sigma.us for course descriptions and registration details.The course will be conducted at Holiday Inn Saratoga Springs by local instructors. This will allow easy follow up after the training sessions.The course is conducted by Lean Six Sigma Consulting\, a Saratoga Chamber of Commerce member.
X-ALT-DESC;FMTTYPE=text/html:<p>For summary please see www.6sigma.us.</p><p>This is a Lean Six Sigma Training session for all levels of belts and experiences. Attendees will receive the level of training and certification for which they register. These levels include: White Belt\, Yellow Belt\, Green Belt\, Black Belt and Master Black Belt.</p><p>Please see the website <a href="http://www.6sigma.us">www.6sigma.us</a> for&nbsp\;course&nbsp\;descriptions&nbsp\;and registration details.</p><p>The course will be conducted at Holiday Inn Saratoga Springs by local instructors. This will allow easy follow up after the training sessions.</p><p>The course is conducted by Lean Six Sigma Consulting\, a Saratoga Chamber of Commerce member.</p>
LOCATION:Holiday Inn Saratoga Springs
UID:e.2254.2068
SEQUENCE:3
DTSTAMP:20260424T063813Z
URL:https://chamber.saratoga.org/events/details/12-15-2014-12-15-2014-2068
END:VEVENT

END:VCALENDAR
