BEGIN:VCALENDAR
VERSION:2.0
PRODID:-//ChamberMaster//Event Calendar 2.0//EN
METHOD:PUBLISH
X-PUBLISHED-TTL:P3D
REFRESH-INTERVAL:P3D
CALSCALE:GREGORIAN
BEGIN:VEVENT
DTSTART:20141214T000000Z
DTEND:20141214T013000Z
X-MICROSOFT-CDO-ALLDAYEVENT:FALSE
SUMMARY:- 12/13/2014
DESCRIPTION:An evening of favorite Christmas songs with the McKrellsHome Made Theater continues their tradition of hosting\nChristmas shows with Kevin McKrell and his merry musicians. Join HMT for an\nevening of Christmas favorites\, Kevin’s trademark sound\, and their popular\nrendition of A Visit from St. Nick (‘Twas the Night Before Christmas).
X-ALT-DESC;FMTTYPE=text/html:<p>An evening of favorite Christmas songs with the McKrells</p><span style='line-height: 115%\; font-family: "Gill Sans MT"\,"sans-serif"\; font-size: 12pt\; mso-fareast-font-family: Calibri\; mso-bidi-font-family: Arial\; mso-ansi-language: EN-US\; mso-fareast-language: EN-US\; mso-bidi-language: AR-SA\;'>Home Made Theater continues their tradition of hosting\nChristmas shows with Kevin McKrell and his merry musicians. Join HMT for an\nevening of Christmas favorites\, Kevin’s trademark sound\, and their popular\nrendition of A Visit from St. Nick (‘Twas the Night Before Christmas).</span>
LOCATION:HMT at The Spa Little Theater
UID:e.2254.2020
SEQUENCE:3
DTSTAMP:20260424T062704Z
URL:https://chamber.saratoga.org/events/details/12-13-2014-12-13-2014-2020
END:VEVENT

END:VCALENDAR
