BEGIN:VCALENDAR
VERSION:2.0
PRODID:-//ChamberMaster//Event Calendar 2.0//EN
METHOD:PUBLISH
X-PUBLISHED-TTL:P3D
REFRESH-INTERVAL:P3D
CALSCALE:GREGORIAN
BEGIN:VEVENT
DTSTART:20141205T230000Z
DTEND:20141206T020000Z
X-MICROSOFT-CDO-ALLDAYEVENT:FALSE
SUMMARY:- 12/05/2014
DESCRIPTION:The holidays are just ahead\, and the Town of Wilton is getting ready to make it official.The holidays are just ahead\, and the Town of Wilton is getting ready to make it official. On Friday\, December 5th\, the public is invited to attend the Annual Tree Lighting at Gavin Park. The fun begins at 6 p.m.\, with holiday songs\, led by Glenn Dorman at the piano. At 6:30 p.m.\, the lights will go up on Gavin Park's beautiful Colorado Spruce tree. Then\, at 6:45 p.m.\, Santa will arrive to meet and greet the crowd. From 6:45   8:45 p.m.\, the fun will continue\, inside the Dailey Gym\, where Santa will hand out candy\, treats\, and gifts. Lending Santa a hand will be Frosty\, Rudolph\, and Santa's elves. There will be holiday movies for the little ones and more opportunities for everyone to sing more songs of the season. Refreshments will be served from 7   8:30 p.m.\n Maple Avenue Fire Department makes the night possible\, with assistance from the Wilton EMS\, Hannaford Bros.\, and Walmart. The evening is sponsored by Applebee's.\n This event will take place\, rain\, snow\, or moonlight. For more information\, contact Gavin Park\, Monday   Friday\, 9 a.m.   5 p.m.\, at (518) 584-9455.
X-ALT-DESC;FMTTYPE=text/html:<p>The holidays are just ahead\, and the Town of Wilton is getting ready to make it official.</p><p>The holidays are just ahead\, and the Town of Wilton is getting ready to make it official. On Friday\, December 5<sup>th</sup>\, the public is invited to attend the Annual Tree Lighting at Gavin Park. The fun begins at 6 p.m.\, with holiday songs\, led by Glenn Dorman at the piano. At 6:30 p.m.\, the lights will go up on Gavin Park&rsquo\;s beautiful Colorado Spruce tree. Then\, at 6:45 p.m.\, Santa will arrive to meet and greet the crowd. From 6:45 &ndash\; 8:45 p.m.\, the fun will continue\, inside the Dailey Gym\, where Santa will hand out candy\, treats\, and gifts. Lending Santa a hand will be Frosty\, Rudolph\, and Santa&rsquo\;s elves. There will be holiday movies for the little ones and more opportunities for everyone to sing more songs of the season. Refreshments will be served from 7 &ndash\; 8:30 p.m.</p>\n<p>&nbsp\;Maple Avenue Fire Department makes the night possible\, with assistance from the Wilton EMS\, Hannaford Bros.\, and Walmart. The evening is sponsored by Applebee&rsquo\;s.</p>\n<p>&nbsp\;This event will take place\, rain\, snow\, or moonlight. For more information\, contact Gavin Park\, Monday &ndash\; Friday\, 9 a.m. &ndash\; 5 p.m.\, at (518) 584-9455.</p>
LOCATION:Gavin Park
UID:e.2254.4744
SEQUENCE:3
DTSTAMP:20260424T062752Z
URL:https://chamber.saratoga.org/events/details/12-05-2014-12-05-2014-4744
END:VEVENT

END:VCALENDAR
