BEGIN:VCALENDAR
VERSION:2.0
PRODID:-//ChamberMaster//Event Calendar 2.0//EN
METHOD:PUBLISH
X-PUBLISHED-TTL:P3D
REFRESH-INTERVAL:P3D
CALSCALE:GREGORIAN
BEGIN:VEVENT
DTSTART:20141206T000000Z
DTEND:20141206T030000Z
X-MICROSOFT-CDO-ALLDAYEVENT:FALSE
SUMMARY:- 12/05/2014
DESCRIPTION:Adirondack Flames HockeyRally Towel Giveaway. Flames Fridays! Presented by Labatt Blue Light. Labatt Blue beer specials. Food drive\, partnered with the Tri-County United Way\, to benefit the Open Door in Glens Falls. Anyone who donates a canned food item will receive one (1) free silver flex ticket.
X-ALT-DESC;FMTTYPE=text/html:<p>Adirondack Flames Hockey</p><span style="font-family: Arial\, Helvetica\, sans-serif\; font-size: 16px\; line-height: normal\; background-color: rgb(255\, 255\, 255)\;">Rally Towel Giveaway. Flames Fridays! Presented by Labatt Blue Light. Labatt Blue beer specials. Food drive\, partnered with the Tri-County United Way\, to benefit the Open Door in Glens Falls. Anyone who donates a canned food item will receive one (1) free silver flex ticket.&nbsp\;</span><br>
LOCATION:Glens Falls Civic Center
UID:e.2254.2128
SEQUENCE:3
DTSTAMP:20260424T062704Z
URL:https://chamber.saratoga.org/events/details/12-05-2014-12-05-2014-2128
END:VEVENT

END:VCALENDAR
