BEGIN:VCALENDAR
VERSION:2.0
PRODID:-//ChamberMaster//Event Calendar 2.0//EN
METHOD:PUBLISH
X-PUBLISHED-TTL:P3D
REFRESH-INTERVAL:P3D
CALSCALE:GREGORIAN
BEGIN:VEVENT
DTSTART:20141202T220000Z
DTEND:20141203T010000Z
X-MICROSOFT-CDO-ALLDAYEVENT:FALSE
SUMMARY:- 12/02/2014
DESCRIPTION:Live music by Holly   Evan\, a very special silent auction\, great food and conversation. To recognize those individuals Community Arts Leadership Award to bestow at this annual benefit.\nThe Saratoga Arts Center Annual Soiree will be held:\nTuesday\, December 2\, 2014 from 5:30pm - 8:30pm\nLongfellow's Restaurant\, 500 Union Avenue\, Saratoga Springs\, NY 12866\nGeneral Admission tickets to the event are $50.\nIndividuals interested in becoming *Honorary Committee Members" and/or *Event Sponsors" please contact The Saratoga Arts Center at (518) 584-4132 or on-line www.saratoga-arts.org / or by emailing Elizabeth Dubben at edubben@Saratoga-arts.org\nHonorary Committee Members and Event Sponsors be recognized in the event invitation and via promotion at the event\nLive music by:  Holly & Evan - www.hollyandevan.com\nPlease join the Saratoga Arts Center for a fun-filled evening with live music by Holly & Evan\, a very special silent auction\, great food and conversation. To recognize those individuals Community Arts Leadership Award to bestow at this annual benefit.
X-ALT-DESC;FMTTYPE=text/html:<p>Live music by Holly & Evan\, a very special silent auction\, great food and conversation</p><p>Please join the Saratoga Arts Center for a fun-filled evening with live music by Holly &amp\; Evan\, a very special silent auction\, great food and conversation. To recognize those individuals Community Arts Leadership Award to bestow at this annual benefit.</p>\n<p>The Saratoga Arts Center Annual Soiree will be held:</p>\n<p>Tuesday\, December 2\, 2014 from 5:30pm - 8:30pm</p>\n<p>Longfellow's Restaurant\, 500 Union Avenue\, Saratoga Springs\, NY 12866</p>\n<p>General Admission tickets to the event are $50.</p>\n<p>Individuals interested in becoming *Honorary Committee Members" and/or&nbsp\;*Event Sponsors" please contact The Saratoga Arts Center at (518) 584-4132 or on-line <a href="http://www.saratoga-arts.org">www.saratoga-arts.org</a>&nbsp\;/ or by emailing Elizabeth Dubben at <a href="mailto:edubben@Saratoga-arts.org">edubben@Saratoga-arts.org</a></p>\n<p>Honorary Committee Members and Event Sponsors&nbsp\;be recognized in the event invitation and via promotion at the event</p>\n<p>Live music by:&nbsp\; Holly &amp\; Evan - <a href="http://www.hollyandevan.com">www.hollyandevan.com</a></p>\n<p>Please join the Saratoga Arts Center for a fun-filled evening with live music by Holly &amp\; Evan\, a very special silent auction\, great food and conversation. To recognize those individuals Community Arts Leadership Award to bestow at this annual benefit.</p>\n<p>&nbsp\;</p>\n<p>&nbsp\;</p>
LOCATION:Longfellow's Restaurant
UID:e.2254.2176
SEQUENCE:3
DTSTAMP:20260424T062612Z
URL:https://chamber.saratoga.org/events/details/12-02-2014-12-02-2014-2176
END:VEVENT

END:VCALENDAR
