BEGIN:VCALENDAR
VERSION:2.0
PRODID:-//ChamberMaster//Event Calendar 2.0//EN
METHOD:PUBLISH
X-PUBLISHED-TTL:P3D
REFRESH-INTERVAL:P3D
CALSCALE:GREGORIAN
BEGIN:VEVENT
DTSTART:20141130T160000Z
DTEND:20141130T210000Z
X-MICROSOFT-CDO-ALLDAYEVENT:FALSE
SUMMARY:- 11/30/2014
DESCRIPTION:Shop for the holidays in the English Market"The sixth annual Dickens Holiday Festival will be held on Sunday\,\nDecember 1 from 11am to 4pm at Longfellow's Restaurant\, 500 Union Avenue\, Saratoga Springs.  Shop for the holidays in the English Market\, enjoy one-day-only Dickens Deals\, food tastings\, photos with Santa\, strolling carolers and Dickens characters in a Victorian setting.  Bring a new unwrapped toy or canned good for those in need.  Admission is $8 (25% of the proceeds goes to the Saratoga Hospital Foundation) children 8 & under are free."
X-ALT-DESC;FMTTYPE=text/html:<p>Shop for the holidays in the English Market</p><p>"The sixth annual Dickens Holiday Festival will be held on Sunday\,<br />December 1 from 11am to 4pm at Longfellow's Restaurant\, 500 Union Avenue\, Saratoga Springs. &nbsp\;Shop for the holidays in the English Market\, enjoy one-day-only Dickens Deals\, food tastings\, photos with Santa\, strolling carolers&nbsp\;and Dickens characters in a Victorian setting. &nbsp\;Bring a new unwrapped toy or canned good for those in need. &nbsp\;Admission is $8 (25% of the proceeds goes to the Saratoga Hospital Foundation) children 8 &amp\; under are free."</p>
LOCATION:Longfellow's Restaurant
UID:e.2254.4718
SEQUENCE:3
DTSTAMP:20260424T110624Z
URL:https://chamber.saratoga.org/events/details/11-30-2014-11-30-2014-4718
END:VEVENT

END:VCALENDAR
