BEGIN:VCALENDAR
VERSION:2.0
PRODID:-//ChamberMaster//Event Calendar 2.0//EN
METHOD:PUBLISH
X-PUBLISHED-TTL:P3D
REFRESH-INTERVAL:P3D
CALSCALE:GREGORIAN
BEGIN:VEVENT
DTSTART:20141129T150000Z
DTEND:20141129T210000Z
X-MICROSOFT-CDO-ALLDAYEVENT:FALSE
SUMMARY:- 11/29/2014
DESCRIPTION:The craft event of the year\; featuring unique\, hand-made crafts from over 100 artisans!Get a jump start on holiday shopping while enjoying unique handmade crafts from over 100 artisans along with raffles\, music and a silent auction! \n\nSome crafts include:\n- Jewelry\n- Paintings\n- Children’s toys\n- Blown glass\n- Pottery\n- Holiday ornamentation\n- Edibles\n- Clothing\n- Many one-of-a-kind specialties \n\nThe Marketplace admission is $5.00 and includes two raffle tickets along with exclusive offers to participating downtown businesses. Our marketplace also takes place on Small Business Saturday® and we are thrilled to promote local small business commerce in our downtown community! \n\nAll proceeds from the show benefit the Saratoga Center for the Family’s mission to strengthen children\, families\, and our community by reducing the effects of abuse\, trauma\, and family dysfunction through advocacy\, education and mental health therapy. \n\nFor more information\, please visit our website:\nhttp://bit.ly/15t67gM
X-ALT-DESC;FMTTYPE=text/html:<p>The craft event of the year\; featuring unique\, hand-made crafts from over 100 artisans!</p><p><span style="color: rgb(51\, 51\, 51)\; font-family: 'lucida grande'\, tahoma\, verdana\, arial\, sans-serif\; font-size: 13px\; line-height: 16px\; background-color: rgb(255\, 255\, 255)\;">Get a jump start on holiday shopping while enjoying unique handmade crafts from over 100 artisans along with raffles\, music and a silent auction!&nbsp\;</span><br style="color: rgb(51\, 51\, 51)\; font-family: 'lucida grande'\, tahoma\, verdana\, arial\, sans-serif\; font-size: 13px\; line-height: 16px\; background-color: rgb(255\, 255\, 255)\;"><br style="color: rgb(51\, 51\, 51)\; font-family: 'lucida grande'\, tahoma\, verdana\, arial\, sans-serif\; font-size: 13px\; line-height: 16px\; background-color: rgb(255\, 255\, 255)\;"><span style="color: rgb(51\, 51\, 51)\; font-family: 'lucida grande'\, tahoma\, verdana\, arial\, sans-serif\; font-size: 13px\; line-height: 16px\; background-color: rgb(255\, 255\, 255)\;">Some crafts include:</span><br style="color: rgb(51\, 51\, 51)\; font-family: 'lucida grande'\, tahoma\, verdana\, arial\, sans-serif\; font-size: 13px\; line-height: 16px\; background-color: rgb(255\, 255\, 255)\;"><span style="color: rgb(51\, 51\, 51)\; font-family: 'lucida grande'\, tahoma\, verdana\, arial\, sans-serif\; font-size: 13px\; line-height: 16px\; background-color: rgb(255\, 255\, 255)\;">- Jewelry</span><br style="color: rgb(51\, 51\, 51)\; font-family: 'lucida grande'\, tahoma\, verdana\, arial\, sans-serif\; font-size: 13px\; line-height: 16px\; background-color: rgb(255\, 255\, 255)\;"><span style="color: rgb(51\, 51\, 51)\; font-family: 'lucida grande'\, tahoma\, verdana\, arial\, sans-serif\; font-size: 13px\; line-height: 16px\; background-color: rgb(255\, 255\, 255)\;">- Paintings</span><span class="text_exposed_show" style="display: inline\; color: rgb(51\, 51\, 51)\; font-family: 'lucida grande'\, tahoma\, verdana\, arial\, sans-serif\; font-size: 13px\; line-height: 16px\; background-color: rgb(255\, 255\, 255)\;"><br>- Children’s toys<br>- Blown glass<br>- Pottery<br>- Holiday ornamentation<br>- Edibles<br>- Clothing<br>- Many one-of-a-kind specialties&nbsp\;<br><br>The Marketplace admission is $5.00 and includes two raffle tickets along with exclusive offers to participating downtown businesses. Our marketplace also takes place on Small Business Saturday® and we are thrilled to promote local small business commerce in our downtown community!&nbsp\;<br><br>All proceeds from the show benefit the Saratoga Center for the Family’s mission to strengthen children\, families\, and our community by reducing the effects of abuse\, trauma\, and family dysfunction through advocacy\, education and mental health therapy.&nbsp\;<br><br>For more information\, please visit our website:<br><a href="http://bit.ly/15t67gM" rel="nofollow nofollow" target="_blank" style="color: rgb(59\, 89\, 152)\; cursor: pointer\; text-decoration: none\;">http://bit.ly/15t67gM</a></span><br><br></p>
LOCATION:Saratoga City Center
UID:e.2254.1784
SEQUENCE:3
DTSTAMP:20260424T082821Z
URL:https://chamber.saratoga.org/events/details/11-29-2014-11-29-2014-1784
END:VEVENT

END:VCALENDAR
