BEGIN:VCALENDAR
VERSION:2.0
PRODID:-//ChamberMaster//Event Calendar 2.0//EN
METHOD:PUBLISH
X-PUBLISHED-TTL:P3D
REFRESH-INTERVAL:P3D
CALSCALE:GREGORIAN
BEGIN:VEVENT
DTSTART:20141127T000000Z
DTEND:20141127T030000Z
X-MICROSOFT-CDO-ALLDAYEVENT:FALSE
SUMMARY:- 11/26/2014
DESCRIPTION:Adirondack Flames HockeyTeam Poster Giveaway sponsored by Glens Falls Printing. Applebee’s on Quaker Road holding specials prior to puck drop and promotions throughout the night from Empire Broadcasting.
X-ALT-DESC;FMTTYPE=text/html:<p>Adirondack Flames Hockey</p><p><span style="font-family: Arial\, Helvetica\, sans-serif\; font-size: 16px\; line-height: normal\; background-color: rgb(255\, 213\, 81)\;">Team Poster Giveaway sponsored by Glens Falls Printing. Applebee’s on Quaker Road holding specials prior to puck drop and promotions throughout the night from Empire Broadcasting.&nbsp\;</span><br><br></p>
LOCATION:Glens Falls Civic Center
UID:e.2254.2125
SEQUENCE:3
DTSTAMP:20260424T123604Z
URL:https://chamber.saratoga.org/events/details/11-26-2014-11-26-2014-2125
END:VEVENT

END:VCALENDAR
