BEGIN:VCALENDAR
VERSION:2.0
PRODID:-//ChamberMaster//Event Calendar 2.0//EN
METHOD:PUBLISH
X-PUBLISHED-TTL:P3D
REFRESH-INTERVAL:P3D
CALSCALE:GREGORIAN
BEGIN:VEVENT
DTSTART:20141122T050000Z
DTEND:20141123T050000Z
X-MICROSOFT-CDO-ALLDAYEVENT:FALSE
SUMMARY:- 11/22/2014
DESCRIPTION:NEACA Arms FairFine Collectors guns\, military souvenirs\, books and militaria for show and sale.\nOpen to the Public Saturday: 9a-5p Sunday: 9a-3p\nAdmission: Adults$8\, Seniors $7\, Under 14 free with adult\nFor more information please call 664-9743
X-ALT-DESC;FMTTYPE=text/html:<p>NEACA Arms Fair</p><p>Fine Collectors guns\, military souvenirs\, books and militaria for show and sale.</p>\n<p>Open to the Public Saturday: 9a-5p Sunday: 9a-3p<br />Admission: Adults$8\, Seniors $7\, Under 14 free with adult<br />For more information please call 664-9743</p>
LOCATION:Saratoga City Center
UID:e.2254.3961
SEQUENCE:3
DTSTAMP:20260424T110624Z
URL:https://chamber.saratoga.org/events/details/11-22-2014-11-22-2014-3961
END:VEVENT

END:VCALENDAR
