BEGIN:VCALENDAR
VERSION:2.0
PRODID:-//ChamberMaster//Event Calendar 2.0//EN
METHOD:PUBLISH
X-PUBLISHED-TTL:P3D
REFRESH-INTERVAL:P3D
CALSCALE:GREGORIAN
BEGIN:VEVENT
DTSTART:20141121T233000Z
DTEND:20141122T030000Z
X-MICROSOFT-CDO-ALLDAYEVENT:FALSE
SUMMARY:- 11/21/2014
DESCRIPTION:Gala and fundraiser for HOPEPlease join us for a wonderful evening of gourmet dining\, musical entertainment and special guest Steve Caporizzo\, WTEN Meteorologist and Animal Advocate. Includes fabulous auction and wine pull. Proceeds support HOPE (Homes for Orphaned Pets Exist) which provides foster care for homeless cats and dogs and a low-cost spay and neuter clinic servicing over 4\,000 Capital District animals annually. Tickets may be purchased online at www.hopeanimalrescue.org. Don't wait - this event sold out last year!
X-ALT-DESC;FMTTYPE=text/html:<p>Gala and fundraiser for HOPE</p><p>Please join us for a wonderful evening of gourmet dining\, musical entertainment and special guest Steve Caporizzo\, WTEN Meteorologist and Animal Advocate. Includes fabulous auction and wine pull. Proceeds support HOPE (Homes for Orphaned Pets Exist) which provides foster care for homeless cats and dogs and a low-cost spay and neuter clinic servicing over 4\,000 Capital District animals annually. Tickets may be purchased online at www.hopeanimalrescue.org. Don't wait - this event sold out last year!</p>
LOCATION:Saratoga National Golf Club
UID:e.2254.2201
SEQUENCE:3
DTSTAMP:20260424T082646Z
URL:https://chamber.saratoga.org/events/details/11-21-2014-11-21-2014-2201
END:VEVENT

END:VCALENDAR
