BEGIN:VCALENDAR
VERSION:2.0
PRODID:-//ChamberMaster//Event Calendar 2.0//EN
METHOD:PUBLISH
X-PUBLISHED-TTL:P3D
REFRESH-INTERVAL:P3D
CALSCALE:GREGORIAN
BEGIN:VEVENT
DTSTART:20141121T230000Z
DTEND:20141122T000000Z
X-MICROSOFT-CDO-ALLDAYEVENT:FALSE
SUMMARY:- 11/21/2014
DESCRIPTION:Rosanne Brody Raab Visiting Artist Lecture by Richard Sennett
X-ALT-DESC;FMTTYPE=text/html:<p>Rosanne Brody Raab Visiting Artist Lecture by Richard Sennett</p><br>
LOCATION:Gannett Auditorium\, Skidmore College
UID:e.2254.2186
SEQUENCE:3
DTSTAMP:20260424T082859Z
URL:https://chamber.saratoga.org/events/details/11-21-2014-11-21-2014-2186
END:VEVENT

END:VCALENDAR
