BEGIN:VCALENDAR
VERSION:2.0
PRODID:-//ChamberMaster//Event Calendar 2.0//EN
METHOD:PUBLISH
X-PUBLISHED-TTL:P3D
REFRESH-INTERVAL:P3D
CALSCALE:GREGORIAN
BEGIN:VEVENT
DTSTART:20141122T000000Z
DTEND:20141122T030000Z
X-MICROSOFT-CDO-ALLDAYEVENT:FALSE
SUMMARY:- 11/21/2014
DESCRIPTION:Adirondack Flames HockeyFlames Fridays! Presented by Labatt Blue Light. Labatt Blue beer specials. Food drive\, partnered with the Tri-County United Way\, to benefit the Open Door in Glens Falls. Anyone who donates a canned food item will receive one (1) free silver flex ticket.
X-ALT-DESC;FMTTYPE=text/html:<p>Adirondack Flames Hockey</p><p><span style="font-family: Arial\, Helvetica\, sans-serif\; font-size: 16px\; line-height: normal\; background-color: rgb(255\, 213\, 81)\;">Flames Fridays! Presented by Labatt Blue Light. Labatt Blue beer specials. Food drive\, partnered with the Tri-County United Way\, to benefit the Open Door in Glens Falls. Anyone who donates a canned food item will receive one (1) free silver flex ticket.</span><br><br></p>
LOCATION:Glens Falls Civic Center
UID:e.2254.2123
SEQUENCE:3
DTSTAMP:20260424T082704Z
URL:https://chamber.saratoga.org/events/details/11-21-2014-11-21-2014-2123
END:VEVENT

END:VCALENDAR
