BEGIN:VCALENDAR
VERSION:2.0
PRODID:-//ChamberMaster//Event Calendar 2.0//EN
METHOD:PUBLISH
X-PUBLISHED-TTL:P3D
REFRESH-INTERVAL:P3D
CALSCALE:GREGORIAN
BEGIN:VEVENT
DTSTART:20141118T163000Z
DTEND:20141118T180000Z
X-MICROSOFT-CDO-ALLDAYEVENT:FALSE
SUMMARY:- 11/18/2014
DESCRIPTION:Lunch   font-family: Times New Roman\,serif\;">Need help trying to understand all the new technology to find what is best for your business? This 60-minute discussion is designed for business professionals who are responsible for making the design and acquisition decisions for technology in their small- to medium-sized businesses. We will review the traditional computer and voice systems infrastructure in order to establish a baseline understanding of premise-based technology. We will then explore cloud and managed services that are now available. At the conclusion of the presentation\, you will be armed with the understanding and options to formulate efficient and cost effective technology decisions for the future of your business. ***Complimentary Lunch Will Be Served***Register at http://www.tech-ii.com/lunch-learn-making-effective-technololgy-decisions/
X-ALT-DESC;FMTTYPE=text/html:<p>Lunch & Learn is back! Join us for a free lunch and a discussion centered around all you need to know to make effective\, informed technology decisions.</p><p><span style="font-size: 12pt\; font-family: Times New Roman\,serif\;">Need help trying to understand all the new technology to find what is best for your business? This 60-minute discussion is designed for business professionals who are responsible for making the design and acquisition decisions for technology in their small- to medium-sized businesses.</span></p> <p><span style="font-size: 12pt\; font-family: Times New Roman\,serif\;">We will review the traditional computer and voice systems infrastructure in order to establish a baseline understanding of premise-based technology. We will then explore cloud and managed services that are now available. At the conclusion of the presentation\, you will be armed with the understanding and options to formulate efficient and cost effective technology decisions for the future of your business.</span></p><p><b>&nbsp\;***Complimentary Lunch Will Be Served***</b></p><p>Register at http://www.tech-ii.com/lunch-learn-making-effective-technololgy-decisions/ </p><p><span style="font-size: 12pt\; font-family: Times New Roman\,serif\;"><br></span></p>
LOCATION:Tech II Business Services\, Inc.
UID:e.2254.2204
SEQUENCE:3
DTSTAMP:20260424T110624Z
URL:https://chamber.saratoga.org/events/details/11-18-2014-11-18-2014-2204
END:VEVENT

END:VCALENDAR
