BEGIN:VCALENDAR
VERSION:2.0
PRODID:-//ChamberMaster//Event Calendar 2.0//EN
METHOD:PUBLISH
X-PUBLISHED-TTL:P3D
REFRESH-INTERVAL:P3D
CALSCALE:GREGORIAN
BEGIN:VEVENT
DTSTART:20141116T200000Z
DTEND:20141116T220000Z
X-MICROSOFT-CDO-ALLDAYEVENT:FALSE
SUMMARY:- 11/16/2014
DESCRIPTION:Concert: Skidmore Band a new piece for flute and concert band composed by Carlton Macy.Directed by Michael Meidenbauer.Senior Artist- in- Residence Jan Vinci will premiere a new piece for flute and concert band composed by Carlton Macy.
X-ALT-DESC;FMTTYPE=text/html:<p>Concert: Skidmore Band a new piece for flute and concert band composed by Carlton Macy.</p><p id="EventDescription329a0fed3ed044bdb027d74b5d60ac87" class="mc-color-4 font-size-normal mb20 scroller-text-description"><span style="font-size: 10pt\;">Directed by Michael Meidenbauer.</span><span style="font-size: 10pt\;"></span></p><p id="EventDescription329a0fed3ed044bdb027d74b5d60ac87" class="mc-color-4 font-size-normal mb20 scroller-text-description"><span style="font-size: 10pt\;">Senior Artist- in- Residence Jan Vinci will premiere a new piece for flute and concert band composed by Carlton Macy.</span></p>
LOCATION:Arthur Zankel Music Center\, Skidmore College
UID:e.2254.2185
SEQUENCE:3
DTSTAMP:20260424T082823Z
URL:https://chamber.saratoga.org/events/details/11-16-2014-11-16-2014-2185
END:VEVENT

END:VCALENDAR
