BEGIN:VCALENDAR
VERSION:2.0
PRODID:-//ChamberMaster//Event Calendar 2.0//EN
METHOD:PUBLISH
X-PUBLISHED-TTL:P3D
REFRESH-INTERVAL:P3D
CALSCALE:GREGORIAN
BEGIN:VEVENT
DTSTART:20141116T190000Z
DTEND:20141116T210000Z
X-MICROSOFT-CDO-ALLDAYEVENT:FALSE
SUMMARY:- 11/16/2014
DESCRIPTION:Teresa Walters on pianoOn Sunday\, November 16\, 2014 at 2pm\, pianist Teresa Walters makes her first appearance in Glens Falls. Ms. Walters' performances on today's international concert stages inspire unanimous praise.
X-ALT-DESC;FMTTYPE=text/html:<p>Teresa Walters on piano</p><span style="font-size: 11pt\; font-family: 'Times New Roman'\, serif\;">On Sunday\, November 16\, 2014 at 2pm\, pianist Teresa Walters makes her first appearance in Glens Falls. Ms. Walters' performances on today's international concert stages inspire unanimous praise.&nbsp\;</span><br>
LOCATION:The Hyde Collection Art Museum
UID:e.2254.2099
SEQUENCE:3
DTSTAMP:20260424T110627Z
URL:https://chamber.saratoga.org/events/details/11-16-2014-11-16-2014-2099
END:VEVENT

END:VCALENDAR
