BEGIN:VCALENDAR
VERSION:2.0
PRODID:-//ChamberMaster//Event Calendar 2.0//EN
METHOD:PUBLISH
X-PUBLISHED-TTL:P3D
REFRESH-INTERVAL:P3D
CALSCALE:GREGORIAN
BEGIN:VEVENT
DTSTART:20141115T200000Z
DTEND:20141115T220000Z
X-MICROSOFT-CDO-ALLDAYEVENT:FALSE
SUMMARY:- 11/15/2014
DESCRIPTION:Choreo II   font-family: Times New Roman\,serif\;">Choreography II students present original group dance works in collaboration with the lighting designers in Skidmore's Dance Production class. No charge. There are no advanced reservations. Arrive early for best seating.\n 3 p.m.-Skidmore College Dance Theater \n For more information call 518-580-5392
X-ALT-DESC;FMTTYPE=text/html:<p>Choreo II & Dance Production Showing </p><span style="font-size: 12pt\; font-family: Times New Roman\,serif\;">Choreography II students present original group dance works in collaboration with the lighting designers in Skidmore's Dance Production class. No charge. There are no advanced reservations. Arrive early for best seating.<br> 3 p.m.-Skidmore College Dance Theater <br> For more information call 518-580-5392</span>
LOCATION:Skidmore College Dance Theater
UID:e.2254.2181
SEQUENCE:3
DTSTAMP:20260424T110626Z
URL:https://chamber.saratoga.org/events/details/11-15-2014-11-15-2014-2181
END:VEVENT

END:VCALENDAR
