BEGIN:VCALENDAR
VERSION:2.0
PRODID:-//ChamberMaster//Event Calendar 2.0//EN
METHOD:PUBLISH
X-PUBLISHED-TTL:P3D
REFRESH-INTERVAL:P3D
CALSCALE:GREGORIAN
BEGIN:VEVENT
DTSTART:20141114T230000Z
DTEND:20141115T010000Z
X-MICROSOFT-CDO-ALLDAYEVENT:FALSE
SUMMARY:- 11/14/2014
DESCRIPTION:Bowl-a-thon to benefit Junior Achievement of Northeastern New York - Adirondack RegionParticipants are asked to personally fund-raise through our easy to use donation website/portal.  Participants develop a team of 5 or more people.  The event will be held at King Pin Alley in South Glens Falls on November 14\, 2014 6:00-8:00PM\, and November 15\, 2014 at Saratoga Strike Zone 12:00-2:00PM.  To learn more about this fun event contact Rebecca Cronin\, District Manager of the Adirondack Region of Junior Achievement of Northeastern New York at 518-893-0306 or rcronin@janeny.org.
X-ALT-DESC;FMTTYPE=text/html:<p>Bowl-a-thon to benefit Junior Achievement of Northeastern New York - Adirondack Region</p><p>Participants are asked to personally fund-raise through our easy to use donation website/portal.&nbsp\; Participants develop a team of 5 or more people.&nbsp\; The event will be held at King Pin Alley in South Glens Falls on November 14\, 2014 6:00-8:00PM\, and November 15\, 2014 at Saratoga Strike Zone 12:00-2:00PM.&nbsp\; To learn more about this fun event contact Rebecca Cronin\, District Manager of the Adirondack Region of Junior Achievement of Northeastern New York at 518-893-0306 or rcronin@janeny.org.</p><p>&nbsp\;</p>
LOCATION:King Pin's Alley
UID:e.2254.3489
SEQUENCE:3
DTSTAMP:20260424T123536Z
URL:https://chamber.saratoga.org/events/details/11-14-2014-11-14-2014-3489
END:VEVENT

END:VCALENDAR
