BEGIN:VCALENDAR
VERSION:2.0
PRODID:-//ChamberMaster//Event Calendar 2.0//EN
METHOD:PUBLISH
X-PUBLISHED-TTL:P3D
REFRESH-INTERVAL:P3D
CALSCALE:GREGORIAN
BEGIN:VEVENT
DTSTART:20141114T050000Z
DTEND:20141115T050000Z
X-MICROSOFT-CDO-ALLDAYEVENT:FALSE
SUMMARY:- 11/14/2014
DESCRIPTION:A new destination for our struggling heroes to receive the necessities of life at no costWe are excited to announce the grand opening of what we have been informed as the first of its kind in the country...\n "The Veterans Miracle Center."\n A new destination for our struggling heroes to receive the necessities of life at no cost. The center will offer clothing\, personal care & hygiene products\, house hold products\, home building repair supplies\, bedding\, furniture and so much more. \n Please join us for the grand opening and ribbon cutting ceremony:\n Where:  VMC\n             10 Interstate Ave\n             Colonie\, NY\n Date: Friday November 14\, 2014 /Open house November 15\, 2014\nTime: 10:00AM\nGuest speakers will include political and military leaders along with the Lasalle School Color Guard.\n Following the ceremony and ribbon cutting\,  lunch will be served compliments of the Marriott Hotel.\n Please let us know if you will be able to attend.  Call:  518-438-4370\nWe look forward to seeing you at this very special event.\n Also\, there will be an open house on Saturday Nov 15  10am-1:00pm
X-ALT-DESC;FMTTYPE=text/html:<p>A new destination for our struggling heroes to receive the necessities of life at no cost</p><p>We are excited to announce the grand opening of what we have been informed as the first of its kind in the country...</p>\n<p>&nbsp\;"The Veterans Miracle Center."</p>\n<p>&nbsp\;A new destination for our struggling heroes to receive the necessities of life at no cost. The center will offer clothing\, personal care &amp\; hygiene products\, house hold products\, home building repair supplies\, bedding\, furniture and so much more.&nbsp\;</p>\n<p>&nbsp\;Please join us for the grand opening and ribbon cutting ceremony:</p>\n<p>&nbsp\;Where: &nbsp\;VMC</p>\n<p>&nbsp\; &nbsp\; &nbsp\; &nbsp\; &nbsp\; &nbsp\; &nbsp\;10 Interstate Ave</p>\n<p>&nbsp\; &nbsp\; &nbsp\; &nbsp\; &nbsp\; &nbsp\; &nbsp\;Colonie\, NY</p>\n<p>&nbsp\;Date: Friday November 14\, 2014&nbsp\;/Open house November 15\, 2014</p>\n<p>Time: 10:00AM</p>\n<p>Guest speakers will include political and military leaders along with the Lasalle School Color Guard.</p>\n<p>&nbsp\;Following the ceremony and ribbon cutting\, &nbsp\;lunch will be served compliments of the Marriott Hotel.</p>\n<p>&nbsp\;Please let us know if you will be able to attend.&nbsp\; Call:&nbsp\; 518-438-4370</p>\n<p>We look forward to seeing you at this very special event.</p>\n<p>&nbsp\;Also\, there will be an open house on Saturday Nov 15 &nbsp\;10am-1:00pm</p>
LOCATION:The Veterans Miracle Center
UID:e.2254.2155
SEQUENCE:3
DTSTAMP:20260424T082546Z
URL:https://chamber.saratoga.org/events/details/11-14-2014-11-14-2014-2155
END:VEVENT

END:VCALENDAR
