BEGIN:VCALENDAR
VERSION:2.0
PRODID:-//ChamberMaster//Event Calendar 2.0//EN
METHOD:PUBLISH
X-PUBLISHED-TTL:P3D
REFRESH-INTERVAL:P3D
CALSCALE:GREGORIAN
BEGIN:VEVENT
DTSTART:20141114T140000Z
DTEND:20141114T220000Z
X-MICROSOFT-CDO-ALLDAYEVENT:FALSE
SUMMARY:- 11/14/2014
DESCRIPTION:Community Appreciation Day at Saratoga National Bank's Route 9 Wilton OfficeSaratoga National Bank and Trust Company's Route 9 Office in Wilton will host a Community Appreciation Day featuring food and giveaways on Friday\, November 14.\nWILTON\, N.Y. (November 3\, 2014)   The Route 9 Office of Saratoga National Bank and Trust Company will host a Community Appreciation Day on Friday\, November 14\, featuring games\, food and fundraising.\n \nThe event from noon to 5 p.m. at 3 Carpenter Lane will include snacks and refreshments\, giveaways and coloring activities for kids\, as well as a Maple Avenue Fire Department truck on display.\n In addition\, a basket raffle featuring various items from local merchants will benefit After the Fire\, an organization that provides assistance to families that are victims of a fire. A representative will also be on-site with information.\n For more information on the November 14 Community Appreciation Day\, please call the Route 9 Office at 584-8120.\n Saratoga National Bank provides banking\, investment\, insurance and other financial services through eight locations. It hosts community events throughout the year as a way to show appreciation for its customers and neighbors\, and assist local causes.
X-ALT-DESC;FMTTYPE=text/html:<p>Community Appreciation Day at Saratoga National Bank's Route 9 Wilton Office</p><p>Saratoga National Bank and Trust Company&rsquo\;s Route 9 Office in Wilton will host a Community Appreciation Day featuring food and giveaways on Friday\, November 14.</p>\n<p>WILTON\, N.Y. (November 3\, 2014) &ndash\; The Route 9 Office of Saratoga National Bank and Trust Company will host a Community Appreciation Day on Friday\, November 14\, featuring games\, food and fundraising.</p>\n<p>&nbsp\;</p>\n<p>The event from noon to 5 p.m. at 3 Carpenter Lane will include snacks and refreshments\, giveaways and coloring activities for kids\, as well as a Maple Avenue Fire Department truck on display.</p>\n<p>&nbsp\;In addition\, a basket raffle featuring various items from local merchants will benefit After the Fire\, an organization that provides assistance to families that are victims of a fire. A representative will also be on-site with information.</p>\n<p>&nbsp\;For more information on the November 14 Community Appreciation Day\, please call the Route 9 Office at 584-8120.</p>\n<p>&nbsp\;Saratoga National Bank provides banking\, investment\, insurance and other financial services through eight locations. It hosts community events throughout the year as a way to show appreciation for its customers and neighbors\, and assist local causes.</p>
LOCATION:Saratoga National Bank
UID:e.2254.1218
SEQUENCE:3
DTSTAMP:20260424T093105Z
URL:https://chamber.saratoga.org/events/details/11-14-2014-11-14-2014-1218
END:VEVENT

END:VCALENDAR
