BEGIN:VCALENDAR
VERSION:2.0
PRODID:-//ChamberMaster//Event Calendar 2.0//EN
METHOD:PUBLISH
X-PUBLISHED-TTL:P3D
REFRESH-INTERVAL:P3D
CALSCALE:GREGORIAN
BEGIN:VEVENT
DTSTART:20141114T010000Z
DTEND:20141114T040000Z
X-MICROSOFT-CDO-ALLDAYEVENT:FALSE
SUMMARY:- 11/13/2014
DESCRIPTION:Moscow State Symphony Orchestra for over 70 years has been acclaimed as one of the world's finest musical ensembles.  This orchestra has brought the grand Russian style to enthusiatic audiences all over the globe.Proctors Theater in Schenectady\, New York presents:Moscow State Symphony Orchestra - Thursday\, November 13\, 2014 at 8:00pmProctors Theater\, 432 State Street\, Schenectady\, New York 12305Tickets $20 - $50 at Box Office (518) 346-6204 or on-line:  www.proctors.org
X-ALT-DESC;FMTTYPE=text/html:<p>Moscow State Symphony Orchestra for over 70 years has been acclaimed as one of the world's finest musical ensembles.  This orchestra has brought the grand Russian style to enthusiatic audiences all over the globe.</p><p>Proctors Theater in Schenectady\, New York presents:</p><p>Moscow State Symphony Orchestra - Thursday\, November 13\, 2014 at 8:00pm</p><p>Proctors Theater\, 432 State Street\, Schenectady\, New York 12305</p><p>Tickets $20 - $50 at Box Office (518) 346-6204 or on-line:&nbsp\; <a href="http://www.proctors.org">www.proctors.org</a> </p><p></p>
LOCATION:Proctors Theater
UID:e.2254.2208
SEQUENCE:3
DTSTAMP:20260424T093106Z
URL:https://chamber.saratoga.org/events/details/11-13-2014-11-13-2014-2208
END:VEVENT

END:VCALENDAR
