BEGIN:VCALENDAR
VERSION:2.0
PRODID:-//ChamberMaster//Event Calendar 2.0//EN
METHOD:PUBLISH
X-PUBLISHED-TTL:P3D
REFRESH-INTERVAL:P3D
CALSCALE:GREGORIAN
BEGIN:VEVENT
DTSTART:20141113T223000Z
DTEND:20141113T233000Z
X-MICROSOFT-CDO-ALLDAYEVENT:FALSE
SUMMARY:- 11/13/2014
DESCRIPTION:Second Thursday Tours at the TangBehind the scenes with engagement assistant Rebecca Green.
X-ALT-DESC;FMTTYPE=text/html:<p>Second Thursday Tours at the Tang</p>Behind the scenes with engagement assistant Rebecca Green.
LOCATION:Tang Museum\, Skidmore College
UID:e.2254.2175
SEQUENCE:3
DTSTAMP:20260424T110457Z
URL:https://chamber.saratoga.org/events/details/11-13-2014-11-13-2014-2175
END:VEVENT

END:VCALENDAR
