BEGIN:VCALENDAR
VERSION:2.0
PRODID:-//ChamberMaster//Event Calendar 2.0//EN
METHOD:PUBLISH
X-PUBLISHED-TTL:P3D
REFRESH-INTERVAL:P3D
CALSCALE:GREGORIAN
BEGIN:VEVENT
DTSTART:20141113T230000Z
DTEND:20141114T020000Z
X-MICROSOFT-CDO-ALLDAYEVENT:FALSE
SUMMARY:- 11/13/2014
DESCRIPTION:An evening of wine tasting\, food pairings\, beer sampling and a lot of fun! Last year's inaugural event was a smashing\, sold-out success! Please save the date\, 11/13\, and stay tuned...
X-ALT-DESC;FMTTYPE=text/html:<p>An evening of wine tasting\, food pairings\, beer sampling and a lot of fun! </p><p>Last year's inaugural event was a smashing\, sold-out success! Please save the date\, 11/13\, and stay tuned...&nbsp\;</p>
LOCATION:Saratoga National Golf Club
UID:e.2254.1783
SEQUENCE:3
DTSTAMP:20260424T093105Z
URL:https://chamber.saratoga.org/events/details/11-13-2014-11-13-2014-1783
END:VEVENT

END:VCALENDAR
