BEGIN:VCALENDAR
VERSION:2.0
PRODID:-//ChamberMaster//Event Calendar 2.0//EN
METHOD:PUBLISH
X-PUBLISHED-TTL:P3D
REFRESH-INTERVAL:P3D
CALSCALE:GREGORIAN
BEGIN:VEVENT
DTSTART:20141111T233000Z
DTEND:20141112T020000Z
X-MICROSOFT-CDO-ALLDAYEVENT:FALSE
SUMMARY:- 11/11/2014
DESCRIPTION:On November 11\, Boca Bistro presents a Seasonal Beer Dinner featuring New York State Brewery Newburgh Brewery CompanyOn November 11\, Boca Bistro presents a Seasonal Beer Dinner featuring New York State Brewery Newburgh Brewery Company.\n\nA seasonal menu designed by Boca Bistro’s Executive Chef Roslyn Zecchini paired with 5 premium beer tastings from Newburgh Brewery and featuring guest speaker Christopher Basso\; Brewmaster\, Chief Executive Officer of Newburgh Brewery\n\nBoca Bistro | November 11 | 6:30pm | $65/pp | 518-682-2800 |www.bocabistro.com
X-ALT-DESC;FMTTYPE=text/html:<p>On November 11\, Boca Bistro presents a Seasonal Beer Dinner featuring New York State Brewery Newburgh Brewery Company</p><span style="color: rgb(20\, 24\, 35)\; font-family: Helvetica\, Arial\, 'lucida grande'\, tahoma\, verdana\, arial\, sans-serif\; font-size: 14px\; line-height: 17.9200000762939px\; background-color: rgb(255\, 255\, 255)\;">On November 11\, Boca Bistro presents a Seasonal Beer Dinner featuring New York State Brewery Newburgh Brewery Company.</span><br style="color: rgb(20\, 24\, 35)\; font-family: Helvetica\, Arial\, 'lucida grande'\, tahoma\, verdana\, arial\, sans-serif\; font-size: 14px\; line-height: 17.9200000762939px\; background-color: rgb(255\, 255\, 255)\;"><br style="color: rgb(20\, 24\, 35)\; font-family: Helvetica\, Arial\, 'lucida grande'\, tahoma\, verdana\, arial\, sans-serif\; font-size: 14px\; line-height: 17.9200000762939px\; background-color: rgb(255\, 255\, 255)\;"><span style="color: rgb(20\, 24\, 35)\; font-family: Helvetica\, Arial\, 'lucida grande'\, tahoma\, verdana\, arial\, sans-serif\; font-size: 14px\; line-height: 17.9200000762939px\; background-color: rgb(255\, 255\, 255)\;">A seasonal menu designed by Boca Bistro’s Executive Chef Roslyn Zecchini paired with 5 premium beer tastings from Newburgh Brewery and featuring guest speaker Christopher Basso\; Brewmaster\, Chief Executive Officer of Newburgh Brewery</span><br style="color: rgb(20\, 24\, 35)\; font-family: Helvetica\, Arial\, 'lucida grande'\, tahoma\, verdana\, arial\, sans-serif\; font-size: 14px\; line-height: 17.9200000762939px\; background-color: rgb(255\, 255\, 255)\;"><br style="color: rgb(20\, 24\, 35)\; font-family: Helvetica\, Arial\, 'lucida grande'\, tahoma\, verdana\, arial\, sans-serif\; font-size: 14px\; line-height: 17.9200000762939px\; background-color: rgb(255\, 255\, 255)\;"><span style="color: rgb(20\, 24\, 35)\; font-family: Helvetica\, Arial\, 'lucida grande'\, tahoma\, verdana\, arial\, sans-serif\; font-size: 14px\; line-height: 17.9200000762939px\; background-color: rgb(255\, 255\, 255)\;">Boca Bistro | November 11 | 6:30pm | $65/pp | 518-682-2800 |</span><a href="http://www.bocabistro.com/" rel="nofollow nofollow" target="_blank" style="color: rgb(59\, 89\, 152)\; cursor: pointer\; text-decoration: none\; font-family: Helvetica\, Arial\, 'lucida grande'\, tahoma\, verdana\, arial\, sans-serif\; font-size: 14px\; line-height: 17.9200000762939px\; background-color: rgb(255\, 255\, 255)\;">www.bocabistro.com</a><br>
LOCATION:Boca Bistro
UID:e.2254.2159
SEQUENCE:3
DTSTAMP:20260424T110536Z
URL:https://chamber.saratoga.org/events/details/11-11-2014-11-11-2014-2159
END:VEVENT

END:VCALENDAR
