BEGIN:VCALENDAR
VERSION:2.0
PRODID:-//ChamberMaster//Event Calendar 2.0//EN
METHOD:PUBLISH
X-PUBLISHED-TTL:P3D
REFRESH-INTERVAL:P3D
CALSCALE:GREGORIAN
BEGIN:VEVENT
DTSTART:20141109T180000Z
DTEND:20141109T200000Z
X-MICROSOFT-CDO-ALLDAYEVENT:FALSE
SUMMARY:- 11/09/2014
DESCRIPTION:Food on the Table - A Modern Thanksgiving FeastFree Second Sunday event: See the food the artists put on the table in the exhibition Picturing America: Signature Works from the Westmoreland Museum of American Art and then draw\, collage or paint a scene of your favorite things to find on the table.
X-ALT-DESC;FMTTYPE=text/html:<p>Food on the Table - A Modern Thanksgiving Feast</p><p style="text-align: left\; margin-left: 1in\; text-indent: -1in\;"><span style="font-size: 11pt\;">Free Second Sunday event: See the food the artists put on the table in the exhibition <em>Picturing America: Signature Works from the Westmoreland Museum of American Art </em>and then draw\, collage or paint a scene of your favorite things to find on the table.&nbsp\;</span> </p>
LOCATION:The Hyde Collection Art Museum
UID:e.2254.2096
SEQUENCE:3
DTSTAMP:20260424T093259Z
URL:https://chamber.saratoga.org/events/details/11-09-2014-11-09-2014-2096
END:VEVENT

END:VCALENDAR
