BEGIN:VCALENDAR
VERSION:2.0
PRODID:-//ChamberMaster//Event Calendar 2.0//EN
METHOD:PUBLISH
X-PUBLISHED-TTL:P3D
REFRESH-INTERVAL:P3D
CALSCALE:GREGORIAN
BEGIN:VEVENT
DTSTART:20141109T000000Z
DTEND:20141109T020000Z
X-MICROSOFT-CDO-ALLDAYEVENT:FALSE
SUMMARY:- 11/08/2014
DESCRIPTION:BEATLES Tribute Concert: Hey Jude at The Parting Glass PubThe Capital Region’s renowned look-alike\, sound-alike Beatles tribute band\, Hey Jude\, will perform a memorable concert at The Parting Glass Pub in Saratoga\, NY on Saturday\, November 8\, 2014 from 7pm to 9pm. The band will perform two 40 minute sets full of FAB BEATLES hits. As an added bonus\, Hey Jude recently added many new songs to their set-list for all of their fantastic fans. Come sing\, dance\, and meet the band for autographs. Pose with “John\,” “Paul\,” “George\,” and “Ringo” for free fan photos which will be displayed on the band’s website\, www.HeyJudeTheTribute.com.This fab group of performers includes Tom Raider as John Lennon\, Brad Jarvis as Paul McCartney\, Rick Bedrosian as George Harrison\, Don Ackerman as Ringo Starr\, and the fifth Beatle—keyboardist\, Rich Coogan. Hey Jude’s performances feature authentic costumes\, instruments\, witty British stage banter\, and of course\, superb music! Don’t miss this one-of-a-kind opportunity to experience a live Hey Jude concert at The Parting Glass\, 40-42 Lake Ave\, Saratoga Springs\, NY 12866. To purchase tickets to see the show\, or to make reservations\, contact The Parting Glass Pub at 518-583-1916. Cheers—From Hey Jude…The Tribute! To book Hey Jude for your next event\, contact Lisa Gandia at 518-844-5453 or lgandia@nycap.rr.com.
X-ALT-DESC;FMTTYPE=text/html:<p>BEATLES Tribute Concert: Hey Jude at The Parting Glass Pub</p><p style="margin: 0in 0in 10pt\;" class="MsoNormal"><font face="Calibri">The Capital Region’s renowned look-alike\, sound-alike Beatles tribute band\, Hey Jude\, will perform a memorable concert at The Parting Glass Pub in Saratoga\, NY on Saturday\, November 8\, 2014 from 7pm to 9pm. The band will perform two 40 minute sets full of FAB BEATLES hits. As an added bonus\, Hey Jude recently added many new songs to their set-list for all of their fantastic fans. Come sing\, dance\, and meet the band for autographs. Pose with “John\,” “Paul\,” “George\,” and “Ringo” for free fan photos which will be displayed on the band’s website\, www.HeyJudeTheTribute.com.This fab group of performers includes <span style="mso-bidi-font-family: Calibri\; mso-bidi-theme-font: minor-latin\;">Tom Raider as John Lennon\, Brad Jarvis as Paul McCartney\, Rick Bedrosian as George Harrison\, Don Ackerman as Ringo Starr\, and the fifth Beatle—keyboardist\, Rich Coogan.</span> Hey Jude’s performances feature authentic costumes\, instruments\, witty British stage banter\, and of course\, superb music! Don’t miss this one-of-a-kind opportunity to experience a live Hey Jude concert at The Parting Glass\, 40-42 Lake Ave\, Saratoga Springs\, NY 12866. To purchase tickets to see the show\, or to make reservations\, contact The Parting Glass Pub at 518-583-1916. Cheers—From Hey Jude…The Tribute! To book Hey Jude for your next event\, contact Lisa Gandia at 518-844-5453 or lgandia@nycap.rr.com.<o:p></o:p></font></p>
LOCATION:The Parting Glass Pub
UID:e.2254.2198
SEQUENCE:3
DTSTAMP:20260424T082849Z
URL:https://chamber.saratoga.org/events/details/11-08-2014-11-08-2014-2198
END:VEVENT

END:VCALENDAR
