BEGIN:VCALENDAR
VERSION:2.0
PRODID:-//ChamberMaster//Event Calendar 2.0//EN
METHOD:PUBLISH
X-PUBLISHED-TTL:P3D
REFRESH-INTERVAL:P3D
CALSCALE:GREGORIAN
BEGIN:VEVENT
DTSTART:20141108T140000Z
DTEND:20141108T050000Z
X-MICROSOFT-CDO-ALLDAYEVENT:FALSE
SUMMARY:- 11/08/2014
DESCRIPTION:Register for 5K Run Online at www.finishright.comRegistration 9:00a.m.\, 5K Run Begins 10:00a.m.\nRegister for 5K Run Online at www.finishright.com.  All proceeds to benefit the Saratoga County Veterans Trust and Agency Fund. \nVolunteers & Sponsors Please contact:\nveterans@saratogacountyny.gov\n518-884-4115
X-ALT-DESC;FMTTYPE=text/html:<p>Register for 5K Run Online at www.finishright.com</p><p>Registration 9:00a.m.\, 5K Run Begins 10:00a.m.</p>\n<p>Register for 5K Run Online at <a href="http://www.finishright.com/">www.finishright.com</a>.&nbsp\; All proceeds to benefit the Saratoga County Veterans Trust and Agency Fund.&nbsp\;</p>\n<p>Volunteers &amp\; Sponsors Please contact:</p>\n<p><a href="mailto:veterans@saratogacountyny.gov">veterans@saratogacountyny.gov</a></p>\n<p>518-884-4115</p>\n<p>&nbsp\;</p>
LOCATION:Fort Hardy Park
UID:e.2254.2085
SEQUENCE:3
DTSTAMP:20260424T092919Z
URL:https://chamber.saratoga.org/events/details/11-08-2014-11-08-2014-2085
END:VEVENT

END:VCALENDAR
