BEGIN:VCALENDAR
VERSION:2.0
PRODID:-//ChamberMaster//Event Calendar 2.0//EN
METHOD:PUBLISH
X-PUBLISHED-TTL:P3D
REFRESH-INTERVAL:P3D
CALSCALE:GREGORIAN
BEGIN:VEVENT
DTSTART:20141107T220000Z
DTEND:20141108T000000Z
X-MICROSOFT-CDO-ALLDAYEVENT:FALSE
SUMMARY:- 11/07/2014
DESCRIPTION:Schick Art Gallery Opening Reception for Craft Matters\n Exhibit runs 11/7/14-12/19/14Opening Reception for Craft Matters\, an \nexhibition presenting work by artists renowned in the fields of jewelry \nand metals\, woodworking\, fiber arts\, or ceramics. present the annual \nRosanne Raab lecture\, now celebrating its twentieth year at Skidmore. \nEach of these artists was selected to present the annual Raab lecture \nbetween 1995 and 2014: Jamie Bennett\, Wendell Castle\, Sharon Church\, Lia\n Cook\, Gary Griffin\, Wayne Higby\, Rick Hirsch\, Sergei Isupov\, Joan \nLivingstone\, John McQueen\, Myra Mimlitsch-Gray\, Albert Paley\, Tom Patti\,\n Warren Seelig\, Toshiko Takaezu\, Anne Wilson\, and Betty Woodman.  5 p.m.-Schick Art Gallery\, Saisselin Art Building Free and open to the public \n For more information call 518-580-5049
X-ALT-DESC;FMTTYPE=text/html:<p>Schick Art Gallery Opening Reception for Craft Matters</p><span style="font-size: 12pt\; font-family: Times New Roman\,serif\;"><em></em></span><span style="font-size: 12pt\; font-family: Times New Roman\,serif\;"><br></span><p><span style="font-size: 12pt\; font-family: Times New Roman\,serif\;"> Exhibit runs 11/7/14-12/19/14</span></p><p><span style="font-size: 10pt\;">Opening Reception for Craft Matters\, an \nexhibition presenting work by artists renowned in the fields of jewelry \nand metals\, woodworking\, fiber arts\, or ceramics. present the annual \nRosanne Raab lecture\, now celebrating its twentieth year at Skidmore. \nEach of these artists was selected to present the annual Raab lecture \nbetween 1995 and 2014: Jamie Bennett\, Wendell Castle\, Sharon Church\, Lia\n Cook\, Gary Griffin\, Wayne Higby\, Rick Hirsch\, Sergei Isupov\, Joan \nLivingstone\, John McQueen\, Myra Mimlitsch-Gray\, Albert Paley\, Tom Patti\,\n Warren Seelig\, Toshiko Takaezu\, Anne Wilson\, and Betty Woodman.</span>&nbsp\;&nbsp\;</p><p><span style="font-size: 12pt\; font-family: Times New Roman\,serif\;"></span>5 p.m.-Schick Art Gallery\, Saisselin Art Building</p><span style="font-size: 12pt\; font-family: Times New Roman\,serif\;"> Free and open to the public <br></span><p><span style="font-size: 12pt\; font-family: Times New Roman\,serif\;"> For more information call 518-580-5049</span></p><p><span style="font-size: 12pt\; font-family: Times New Roman\,serif\;"><br></span></p>
LOCATION:Schick Art Gallery\, Saisselin Art Building
UID:e.2254.2169
SEQUENCE:3
DTSTAMP:20260424T110657Z
URL:https://chamber.saratoga.org/events/details/11-07-2014-11-07-2014-2169
END:VEVENT

END:VCALENDAR
