BEGIN:VCALENDAR
VERSION:2.0
PRODID:-//ChamberMaster//Event Calendar 2.0//EN
METHOD:PUBLISH
X-PUBLISHED-TTL:P3D
REFRESH-INTERVAL:P3D
CALSCALE:GREGORIAN
BEGIN:VEVENT
DTSTART:20141107T150000Z
DTEND:20141219T210000Z
X-MICROSOFT-CDO-ALLDAYEVENT:FALSE
SUMMARY:- 11/07/2014
DESCRIPTION:Schick Art Gallery: Craft Matters ceramics\, metalwork\, jewelry\, and fibers by 19 leading artists who have delivered the annual Raab lectureThis exhibition presents ceramics\, metalwork\, jewelry\, and fibers by 19 leading artists who have delivered the annual Raab lecture at Skidmore College between 1994 and 2014 Open Monday-Thursday 10 a.m.-6 p.m.\, Friday 10 a.m.-4 p.m.\; Saturday and Sunday Noon-4 p.m. Closed on academic holidays. Schick Art Gallery\, Saisselin Art Building \n For more information call 518-580-5049
X-ALT-DESC;FMTTYPE=text/html:<p>Schick Art Gallery: Craft Matters ceramics\, metalwork\, jewelry\, and fibers by 19 leading artists who have delivered the annual Raab lecture</p><p>This exhibition presents ceramics\, metalwork\, jewelry\, and fibers by 19 leading artists who have delivered the annual Raab lecture at Skidmore College between 1994 and 2014</p> <p><span>Open Monday-Thursday 10 a.m.-6 p.m.\, Friday 10 a.m.-4 p.m.\; Saturday and Sunday Noon-4 p.m. Closed on academic holidays.</span></p> <span style="font-size: 12pt\; font-family: Times New Roman\,serif\;">Schick Art Gallery\, Saisselin Art Building <br> For more information call 518-580-5049</span>
LOCATION:Schick Art Gallery\, Saisselin Art Building
UID:e.2254.2162
SEQUENCE:3
DTSTAMP:20260424T062840Z
URL:https://chamber.saratoga.org/events/details/11-07-2014-11-07-2014-2162
END:VEVENT

END:VCALENDAR
