BEGIN:VCALENDAR
VERSION:2.0
PRODID:-//ChamberMaster//Event Calendar 2.0//EN
METHOD:PUBLISH
X-PUBLISHED-TTL:P3D
REFRESH-INTERVAL:P3D
CALSCALE:GREGORIAN
BEGIN:VEVENT
DTSTART:20141107T000000Z
DTEND:20141107T020000Z
X-MICROSOFT-CDO-ALLDAYEVENT:FALSE
SUMMARY:- 11/06/2014
DESCRIPTION:"Fatal Assistance"Directed by Raoul Peck 7 p.m.-Davis Auditorium For more information call 518-580-5261
X-ALT-DESC;FMTTYPE=text/html:<p>"Fatal Assistance"</p><p>Directed by Raoul Peck</p> <p>7 p.m.-Davis Auditorium</p> <span style="font-size: 12pt\; font-family: Times New Roman\,serif\;">For more information call 518-580-5261</span>
LOCATION:Davis Auditorium\, Skidmore College
UID:e.2254.2168
SEQUENCE:3
DTSTAMP:20260424T092919Z
URL:https://chamber.saratoga.org/events/details/11-06-2014-11-06-2014-2168
END:VEVENT

END:VCALENDAR
