BEGIN:VCALENDAR
VERSION:2.0
PRODID:-//ChamberMaster//Event Calendar 2.0//EN
METHOD:PUBLISH
X-PUBLISHED-TTL:P3D
REFRESH-INTERVAL:P3D
CALSCALE:GREGORIAN
BEGIN:VEVENT
DTSTART:20141106T230000Z
DTEND:20141107T020000Z
X-MICROSOFT-CDO-ALLDAYEVENT:FALSE
SUMMARY:- 11/06/2014
DESCRIPTION:The 25th Annual Putnam County Spelling BeeSkidmore Cabaret Troupe Performance: The 25th Annual Putnam County Spelling Bee 6 p.m.-Filene Recital Hall For more information call 518-580-5000
X-ALT-DESC;FMTTYPE=text/html:<p>The 25th Annual Putnam County Spelling Bee</p><p>Skidmore Cabaret Troupe Performance<em>: The 25<sup>th</sup> Annual Putnam County Spelling Bee</em></p> <p>6 p.m.-Filene Recital Hall</p> <span style="font-size: 12pt\; font-family: Times New Roman\,serif\;">For more information call 518-580-5000</span>
LOCATION:Filene Recital Hall
UID:e.2254.2167
SEQUENCE:3
DTSTAMP:20260424T110626Z
URL:https://chamber.saratoga.org/events/details/11-06-2014-11-06-2014-2167
END:VEVENT

END:VCALENDAR
