BEGIN:VCALENDAR
VERSION:2.0
PRODID:-//ChamberMaster//Event Calendar 2.0//EN
METHOD:PUBLISH
X-PUBLISHED-TTL:P3D
REFRESH-INTERVAL:P3D
CALSCALE:GREGORIAN
BEGIN:VEVENT
DTSTART:20141106T000000Z
DTEND:20141106T010000Z
X-MICROSOFT-CDO-ALLDAYEVENT:FALSE
SUMMARY:- 11/05/2014
DESCRIPTION:Alpine Sport Shop will host author Jeremy Davis of "Lost Ski Areas" of the Northern Adirondacks"Alpine Sport Shop will host author Jeremy Davis on Wednesday November 5\, 2014 at 7:00 PM for a book signing and conversation on his latest book\, "Lost Ski Areas of the Northern Adirondacks". Join us by the fireplace at the Alpine Sport Shop for an interesting and nostalgic evening. All four of Jeremy's "Lost Ski Area" books will be available for purchase and will be signed by the author. For more information please call Alpine Sport Shop 518 584 6290 alpinesportshop.com
X-ALT-DESC;FMTTYPE=text/html:<p>Alpine Sport Shop will host author Jeremy Davis of "Lost Ski Areas" of the Northern Adirondacks"</p><p>Alpine Sport Shop will host author Jeremy Davis on Wednesday November 5\, 2014 at 7:00 PM for a book signing and conversation on his latest book\, "Lost Ski Areas of the Northern Adirondacks". Join us by the fireplace at the Alpine Sport Shop for an interesting and nostalgic evening. All four of Jeremy's "Lost Ski Area" books will be available for purchase and will be signed by the author. For more information please call Alpine Sport Shop 518 584 6290 alpinesportshop.com</p>
LOCATION:Alpine Sport Shop
UID:e.2254.2197
SEQUENCE:3
DTSTAMP:20260424T082706Z
URL:https://chamber.saratoga.org/events/details/11-05-2014-11-05-2014-2197
END:VEVENT

END:VCALENDAR
