BEGIN:VCALENDAR
VERSION:2.0
PRODID:-//ChamberMaster//Event Calendar 2.0//EN
METHOD:PUBLISH
X-PUBLISHED-TTL:P3D
REFRESH-INTERVAL:P3D
CALSCALE:GREGORIAN
BEGIN:VEVENT
DTSTART:20141105T010000Z
DTEND:20141105T030000Z
X-MICROSOFT-CDO-ALLDAYEVENT:FALSE
SUMMARY:- 11/04/2014
DESCRIPTION:UNICEF Film Screening of "To Educate A Girl"
X-ALT-DESC;FMTTYPE=text/html:<p>UNICEF Film Screening of "To Educate A Girl"</p><br>
LOCATION:Gannett Auditorium\, Skidmore College
UID:e.2254.2166
SEQUENCE:3
DTSTAMP:20260424T110718Z
URL:https://chamber.saratoga.org/events/details/11-04-2014-11-04-2014-2166
END:VEVENT

END:VCALENDAR
