BEGIN:VCALENDAR
VERSION:2.0
PRODID:-//ChamberMaster//Event Calendar 2.0//EN
METHOD:PUBLISH
X-PUBLISHED-TTL:P3D
REFRESH-INTERVAL:P3D
CALSCALE:GREGORIAN
BEGIN:VEVENT
DTSTART:20141102T230000Z
DTEND:20141103T040000Z
X-MICROSOFT-CDO-ALLDAYEVENT:FALSE
SUMMARY:- 11/02/2014
DESCRIPTION:This gourmet celebration is the result of two decades of growth\, creativity and hard work on the part of hundreds of people who truly make a difference in the lives of individuals and families challenged by intellectual disabilities and brain injuries.When: November 2\, 6-11pmWhere: Albany Marriott\, 189 Wolf Road\, Albany\, NY\nThe Culinary Cornucopia is a gala like no other in the Capital Region.\n\nThis gourmet celebration is the result of two decades of growth\, creativity and hard work on the part of hundreds of people who truly make a difference in the lives of individuals and families challenged by intellectual disabilities and brain injuries.\n\nEach year\, over 500 guests gather at the Albany Marriott to enjoy mouth-watering menus\, great wine pairings\, gourmet coffees\, teas and sweets\, gorgeous surroundings\, interesting people and tantalizing auction items. Cornucopia guests have the opportunity to sample artful and exceptional small-plate appetizers\, entrees and desserts\, prepared by top chefs from some of the region’s finest restaurants.\n\nFor more information and to order your tickets\, please contact Joan Meyer at (518) 218-0000x5330
X-ALT-DESC;FMTTYPE=text/html:<p>This gourmet celebration is the result of two decades of growth\, creativity and hard work on the part of hundreds of people who truly make a difference in the lives of individuals and families challenged by intellectual disabilities and brain injuries.</p><p><span style="color: rgb(20\, 24\, 35)\; font-family: Helvetica\, Arial\, 'lucida grande'\, tahoma\, verdana\, arial\, sans-serif\; font-size: 14px\; line-height: 17.9200000762939px\; background-color: rgb(255\, 255\, 255)\;">When: November 2\, 6-11pm</span></p><p><span style="color: rgb(20\, 24\, 35)\; font-family: Helvetica\, Arial\, 'lucida grande'\, tahoma\, verdana\, arial\, sans-serif\; font-size: 14px\; line-height: 17.9200000762939px\; background-color: rgb(255\, 255\, 255)\;">Where: Albany Marriott\, 189 Wolf Road\, Albany\, NY</span></p><span style="color: rgb(20\, 24\, 35)\; font-family: Helvetica\, Arial\, 'lucida grande'\, tahoma\, verdana\, arial\, sans-serif\; font-size: 14px\; line-height: 17.9200000762939px\; background-color: rgb(255\, 255\, 255)\;"><div><span style="color: rgb(20\, 24\, 35)\; font-family: Helvetica\, Arial\, 'lucida grande'\, tahoma\, verdana\, arial\, sans-serif\; font-size: 14px\; line-height: 17.9200000762939px\; background-color: rgb(255\, 255\, 255)\;"><br></span></div>The Culinary Cornucopia is a gala like no other in the Capital Region.</span><br style="color: rgb(20\, 24\, 35)\; font-family: Helvetica\, Arial\, 'lucida grande'\, tahoma\, verdana\, arial\, sans-serif\; font-size: 14px\; line-height: 17.9200000762939px\; background-color: rgb(255\, 255\, 255)\;"><br style="color: rgb(20\, 24\, 35)\; font-family: Helvetica\, Arial\, 'lucida grande'\, tahoma\, verdana\, arial\, sans-serif\; font-size: 14px\; line-height: 17.9200000762939px\; background-color: rgb(255\, 255\, 255)\;"><span style="color: rgb(20\, 24\, 35)\; font-family: Helvetica\, Arial\, 'lucida grande'\, tahoma\, verdana\, arial\, sans-serif\; font-size: 14px\; line-height: 17.9200000762939px\; background-color: rgb(255\, 255\, 255)\;">This gourmet celebration is the result of two decades of growth\, creativity and hard work on the part of hundreds of people who truly make a difference in the lives of individuals and families challenged by intellectual disabilities and brain injur</span><span class="text_exposed_show" style="display: inline\; color: rgb(20\, 24\, 35)\; font-family: Helvetica\, Arial\, 'lucida grande'\, tahoma\, verdana\, arial\, sans-serif\; font-size: 14px\; line-height: 17.9200000762939px\; background-color: rgb(255\, 255\, 255)\;">ies.<br><br>Each year\, over 500 guests gather at the Albany Marriott to enjoy mouth-watering menus\, great wine pairings\, gourmet coffees\, teas and sweets\, gorgeous surroundings\, interesting people and tantalizing auction items. Cornucopia guests have the opportunity to sample artful and exceptional small-plate appetizers\, entrees and desserts\, prepared by top chefs from some of the region’s finest restaurants.<br><br>For more information and to order your tickets\, please contact Joan Meyer at (518) 218-0000x5330</span><br>
LOCATION:Albany Marriott
UID:e.2254.3982
SEQUENCE:3
DTSTAMP:20260424T082900Z
URL:https://chamber.saratoga.org/events/details/11-02-2014-11-02-2014-3982
END:VEVENT

END:VCALENDAR
