BEGIN:VCALENDAR
VERSION:2.0
PRODID:-//ChamberMaster//Event Calendar 2.0//EN
METHOD:PUBLISH
X-PUBLISHED-TTL:P3D
REFRESH-INTERVAL:P3D
CALSCALE:GREGORIAN
BEGIN:VEVENT
DTSTART:20141101T230000Z
DTEND:20141102T010000Z
X-MICROSOFT-CDO-ALLDAYEVENT:FALSE
SUMMARY:- 11/01/2014
DESCRIPTION:Concert by the Talich Quartet-  the Talich Quartet has been recognized internationally as one of Europe’s finest chamber ensemblesFor several decades\, the Talich Quartet has been recognized internationally as one of Europe’s finest chamber ensembles\, and as the embodiment of the great Czech musical tradition. 8 p.m.-Arthur Zankel Music Center\, Ladd Concert Hall $8 adults\, $5 senior citizens and Skidmore community\; free for students and children For ticket information call 518-580-5321 or go to www.skidmore.edu/Zankel
X-ALT-DESC;FMTTYPE=text/html:<p>Concert by the Talich Quartet-  the Talich Quartet has been recognized internationally as one of Europe’s finest chamber ensembles</p><p>For several decades\, the Talich Quartet has been recognized internationally as one of Europe’s finest chamber ensembles\, and as the embodiment of the great Czech musical tradition.</p> <p>8 p.m.-Arthur Zankel Music Center\, Ladd Concert Hall</p> <p>$8 adults\, $5 senior citizens and Skidmore <span style="color: black\;">community\; free for students and children</span></p> <span style="font-size: 12pt\; font-family: Times New Roman\,serif\;">For ticket information call 518-580-5321 or go to <a href="http://www.skidmore.edu/Zankel">www.skidmore.edu/Zankel</a> <span>&nbsp\;&nbsp\;&nbsp\;&nbsp\;&nbsp\;&nbsp\;&nbsp\;&nbsp\;&nbsp\;&nbsp\;&nbsp\;&nbsp\;&nbsp\;&nbsp\;</span><span>&nbsp\;&nbsp\;&nbsp\;&nbsp\;&nbsp\;&nbsp\;&nbsp\;&nbsp\;&nbsp\;&nbsp\;&nbsp\;&nbsp\;&nbsp\;&nbsp\;&nbsp\;&nbsp\;&nbsp\;&nbsp\;&nbsp\;&nbsp\;&nbsp\;</span></span>
LOCATION:Arthur Zankel Music Center\, Skidmore College
UID:e.2254.2165
SEQUENCE:3
DTSTAMP:20260424T110625Z
URL:https://chamber.saratoga.org/events/details/11-01-2014-11-01-2014-2165
END:VEVENT

END:VCALENDAR
