BEGIN:VCALENDAR
VERSION:2.0
PRODID:-//ChamberMaster//Event Calendar 2.0//EN
METHOD:PUBLISH
X-PUBLISHED-TTL:P3D
REFRESH-INTERVAL:P3D
CALSCALE:GREGORIAN
BEGIN:VEVENT
DTSTART:20141101T100000Z
DTEND:20141101T190000Z
X-MICROSOFT-CDO-ALLDAYEVENT:FALSE
SUMMARY:- 11/01/2014
DESCRIPTION:Spinning Instructor TrainingThis comprehensive workshop will give you all the tools you need to become a certified Spinning instructor and lead your own classes in any of the 35\,000+ Official Spinning Facilities worldwide. When you sign up\, you'll receive the Spinning Instructor Manual for use as reference during your class\, the Spinning Instructor Assessment and beyond. Upon completion of the Spinning Instructor Training\, you will be eligible to take the Assessment test online at your convenience. Certification is active for two years from the date of your Instructor Training workshop\, and with continuing education\, can be maintained for a lifetime. Bring your gear and be ready for two great rides led by a Spinning Master Instructor. Workshop time (including two rides and a lunch break) is nine hours.
X-ALT-DESC;FMTTYPE=text/html:<p>Spinning Instructor Training</p><span style="color: rgb(88\, 88\, 88)\; font-family: Arial\, sans-serif\; font-size: 13px\; line-height: 19.5px\; background-color: rgb(255\, 255\, 255)\;">This comprehensive workshop will give you all the tools you need to become a certified Spinning instructor and lead your own classes in any of the 35\,000+ Official Spinning Facilities worldwide. When you sign up\,&nbsp\;you'll&nbsp\;receive the Spinning Instructor Manual for use as reference during your class\, the Spinning Instructor Assessment and beyond. Upon completion of the Spinning Instructor Training\, you will be eligible to take the Assessment test&nbsp\;online&nbsp\;at your convenience. Certification is active for two years from the date of your Instructor Training workshop\, and with continuing education\, can be maintained for a lifetime. Bring your gear and be ready for two great rides led by a Spinning Master Instructor. Workshop time (including two rides and a lunch break) is nine hours.</span><br>
LOCATION:Saratoga Cycling Studio
UID:e.2254.2065
SEQUENCE:3
DTSTAMP:20260424T083248Z
URL:https://chamber.saratoga.org/events/details/11-01-2014-11-01-2014-2065
END:VEVENT

END:VCALENDAR
