BEGIN:VCALENDAR
VERSION:2.0
PRODID:-//ChamberMaster//Event Calendar 2.0//EN
METHOD:PUBLISH
X-PUBLISHED-TTL:P3D
REFRESH-INTERVAL:P3D
CALSCALE:GREGORIAN
BEGIN:VEVENT
DTSTART:20140809T100000Z
DTEND:20140809T170000Z
X-MICROSOFT-CDO-ALLDAYEVENT:FALSE
SUMMARY:10th Annual Cardboard Boat Race - 08/09/2014
DESCRIPTION:Fun for the whole family!Hudson Crossing Park presents its 10th Annual Cardboard Boat Race on Saturday\, August 09th (rain date Sunday\, August 10th) at Fort Hardy Park Beach on Route 29 in Schuylerville from 8am to 3pm. This event is fun for the whole family and is sponsored by the Erie Canalway National Heritage Corridor\, Stewart's Shops\, Glens Falls National Bank and Trust Company and the Hilton Garden Inn.\n The first race launches at 1pm and best photo opportunities are between 12pm and 2pm.  Admission is free for spectators. Pre-registration discounts for individuals and companies are available at www.hudsoncrossingpark.org.  On-site registration and construction is open from 8am   12pm.  A list of rules\, registration forms and hints to get started with your boat building is available at www.hudsoncrossingpark.org or by email at info@hudsoncrossingpark.org
X-ALT-DESC;FMTTYPE=text/html:<p>Fun for the whole family!</p><p>Hudson Crossing Park presents its 10th Annual Cardboard Boat Race on Saturday\, August 09th (rain date Sunday\, August 10th) at Fort Hardy Park Beach on Route 29 in Schuylerville from 8am to 3pm.<strong> </strong>This event is fun for the whole family and is sponsored by the Erie Canalway National Heritage Corridor\, Stewart&rsquo\;s Shops\, Glens Falls National Bank and Trust Company and the Hilton Garden Inn.</p>\n<p><strong>&nbsp\;</strong>The first race launches at 1pm and best photo opportunities are between 12pm and 2pm.&nbsp\; Admission is free for spectators. Pre-registration discounts for individuals and companies are available at <a href="http://www.hudsoncrossingpark.org/">www.hudsoncrossingpark.org</a>.&nbsp\; On-site registration and construction is open from 8am &ndash\; 12pm.&nbsp\; A list of rules\, registration forms and hints to get started with your boat building is available at <a href="http://www.hudsoncrossingpark.org/">www.hudsoncrossingpark.org</a> or by email at <a href="mailto:info@hudsoncrossingpark.org">info@hudsoncrossingpark.org</a></p>
LOCATION:Fort Hardy Park Beach
UID:e.2254.1953
SEQUENCE:3
DTSTAMP:20260424T140447Z
URL:https://chamber.saratoga.org/events/details/10th-annual-cardboard-boat-race-08-09-2014-08-09-2014-1953
END:VEVENT

END:VCALENDAR
