BEGIN:VCALENDAR
VERSION:2.0
PRODID:-//ChamberMaster//Event Calendar 2.0//EN
METHOD:PUBLISH
X-PUBLISHED-TTL:P3D
REFRESH-INTERVAL:P3D
CALSCALE:GREGORIAN
BEGIN:VEVENT
DTSTART:20140921T123000Z
DTEND:20140921T150000Z
X-MICROSOFT-CDO-ALLDAYEVENT:FALSE
SUMMARY:10th annual Capital Region Out of the Darkness Walk for R.I.T.A - 09/21/2014
DESCRIPTION:WALK ON SEPTEMBER 21\, 2014 TO PREVENT SUICIDESupport the American Foundation for Suicide Prevention by participating in the 10th annual Capital Region Out of the Darkness Walk for R.I.T.A. on Sunday\, September 21\, 2014 at the Historic Saratoga Flat Track. Proceeds will benefit local and national suicide prevention\, awareness and education programs. Registration will be held at the Union Street entrance at 9:00 a.m. The walk will begin promptly at 10:30 a.m. \n\nTo register\, donate or to learn more\, please visit www.afsp.org/walk or afsp.donordrive.com/event/rita.
X-ALT-DESC;FMTTYPE=text/html:<p>WALK ON SEPTEMBER 21\, 2014 TO PREVENT SUICIDE</p><P>Support the American Foundation for Suicide Prevention by participating in the 10th annual Capital Region Out of the Darkness Walk for R.I.T.A. on Sunday\, September 21\, 2014 at the Historic Saratoga Flat Track. Proceeds will benefit local and national suicide prevention\, awareness and education programs. Registration will be held at the Union Street entrance at 9:00 a.m. The walk will begin promptly at 10:30 a.m. <BR><BR>To register\, donate or to learn more\, please visit www.afsp.org/walk or afsp.donordrive.com/event/rita. </P>
LOCATION:Saratoga Flat Track
UID:e.2254.3551
SEQUENCE:3
DTSTAMP:20260424T111227Z
URL:https://chamber.saratoga.org/events/details/10th-annual-capital-region-out-of-the-darkness-walk-for-r-i-t-a-09-21-2014-09-21-2014-3551
END:VEVENT

END:VCALENDAR
