BEGIN:VCALENDAR
VERSION:2.0
PRODID:-//ChamberMaster//Event Calendar 2.0//EN
METHOD:PUBLISH
X-PUBLISHED-TTL:P3D
REFRESH-INTERVAL:P3D
CALSCALE:GREGORIAN
BEGIN:VEVENT
DTSTART:20141031T220000Z
DTEND:20141101T010000Z
X-MICROSOFT-CDO-ALLDAYEVENT:FALSE
SUMMARY:- 10/31/2014
DESCRIPTION:WIN A GIFT CARD TO  Prime at Saratoga National   Scariest: $100 Gift Card Best Couple: $50 Gift Card Did you really wear that?! : $25 Gift Card  $5.00 ADMISSION  :: Spooktacular Treats Included! :: 21+ DRINK SPECIALS + LIQUOR SPONSORS! WIN A GIFT CARD TO \nPrime at Saratoga National \n\nScariest: $100 Gift Card\nBest Couple: $50 Gift Card\nDid you really wear that?! : $25 Gift Card\n\n$5.00 ADMISSION \n:: Spooktacular Treats Included! ::\n21+\nDRINK SPECIALS + LIQUOR SPONSORS!
X-ALT-DESC;FMTTYPE=text/html:<p>WIN A GIFT CARD TO  Prime at Saratoga National   Scariest: $100 Gift Card Best Couple: $50 Gift Card Did you really wear that?! : $25 Gift Card  $5.00 ADMISSION  :: Spooktacular Treats Included! :: 21+ DRINK SPECIALS + LIQUOR SPONSORS! </p>WIN A GIFT CARD TO <br>Prime at Saratoga National <br><br>Scariest: $100 Gift Card<br>Best Couple: $50 Gift Card<br>Did you really wear that?! : $25 Gift Card<br><br>$5.00 ADMISSION <br>:: Spooktacular Treats Included! ::<br>21+<br>DRINK SPECIALS + LIQUOR SPONSORS! <br><br>
LOCATION:Prime at Saratoga National
UID:e.2254.2103
SEQUENCE:3
DTSTAMP:20260424T092906Z
URL:https://chamber.saratoga.org/events/details/10-31-2014-10-31-2014-2103
END:VEVENT

END:VCALENDAR
