BEGIN:VCALENDAR
VERSION:2.0
PRODID:-//ChamberMaster//Event Calendar 2.0//EN
METHOD:PUBLISH
X-PUBLISHED-TTL:P3D
REFRESH-INTERVAL:P3D
CALSCALE:GREGORIAN
BEGIN:VEVENT
DTSTART:20141030T210000Z
DTEND:20141031T000000Z
X-MICROSOFT-CDO-ALLDAYEVENT:FALSE
SUMMARY:- 10/30/2014
DESCRIPTION:"Horrible Halloween" featuring Sharknado   "Horrible Halloween" featuring Sharknado & Raw ForceProctors Theater\, 432 State Street\, Schenectady\, New York 12305Tickets: Adults $9 / Students $6 at Box Office (518) 346-6204 or www.proctors.org
X-ALT-DESC;FMTTYPE=text/html:<p>"Horrible Halloween" featuring Sharknado & Raw Force.  A trick or treat double feature!</p><p>Proctors presents:&nbsp\; "Horrible Halloween" featuring Sharknado &amp\; Raw Force</p><p>Proctors Theater\, 432 State Street\, Schenectady\, New York 12305</p><p>Tickets: Adults $9 / Students $6 at Box Office (518) 346-6204 or <a href="http://www.proctors.org">www.proctors.org</a> </p>
LOCATION:Proctors Theater
UID:e.2254.2212
SEQUENCE:3
DTSTAMP:20260424T110534Z
URL:https://chamber.saratoga.org/events/details/10-30-2014-10-30-2014-2212
END:VEVENT

END:VCALENDAR
