BEGIN:VCALENDAR
VERSION:2.0
PRODID:-//ChamberMaster//Event Calendar 2.0//EN
METHOD:PUBLISH
X-PUBLISHED-TTL:P3D
REFRESH-INTERVAL:P3D
CALSCALE:GREGORIAN
BEGIN:VEVENT
DTSTART:20141029T210000Z
DTEND:20141030T000000Z
X-MICROSOFT-CDO-ALLDAYEVENT:FALSE
SUMMARY:- 10/29/2014
DESCRIPTION:Adirondack Flames HockeyApplebee’s on Quaker Road holding specials prior to puck drop and promotions throughout the night from Empire Broadcasting.
X-ALT-DESC;FMTTYPE=text/html:<p>Adirondack Flames Hockey</p><p><span style="font-family: Arial\, Helvetica\, sans-serif\; font-size: 16px\; line-height: normal\; background-color: rgb(255\, 213\, 81)\;">Applebee’s on Quaker Road holding specials prior to puck drop and promotions throughout the night from Empire Broadcasting.</span><br><br></p>
LOCATION:Glens Falls Civic Center
UID:e.2254.2120
SEQUENCE:3
DTSTAMP:20260424T104249Z
URL:https://chamber.saratoga.org/events/details/10-29-2014-10-29-2014-2120
END:VEVENT

END:VCALENDAR
