BEGIN:VCALENDAR
VERSION:2.0
PRODID:-//ChamberMaster//Event Calendar 2.0//EN
METHOD:PUBLISH
X-PUBLISHED-TTL:P3D
REFRESH-INTERVAL:P3D
CALSCALE:GREGORIAN
BEGIN:VEVENT
DTSTART:20141028T203000Z
DTEND:20141028T230000Z
X-MICROSOFT-CDO-ALLDAYEVENT:FALSE
SUMMARY:- 10/28/2014
DESCRIPTION:Chianti Il Ristorante's energetic and whimsical Executive Chef Fabrizio leads you on a culinary journey through the Italian region of PugliaThis Autumn Chianti Il Ristorante’s energetic and whimsical Executive \nChef Fabrizio will lead guests on a culinary journey through the Italian\n region of Puglia. Explore Italy and \nits flavors region by region\, learning tips from a master while you sip \nwine and watch a fantastic meal prepared from start to finish. Call \nChianti at 518-580-0025 for more details and to sign-up.
X-ALT-DESC;FMTTYPE=text/html:<p>Chianti Il Ristorante's energetic and whimsical Executive Chef Fabrizio leads you on a culinary journey through the Italian region of Puglia</p>This Autumn&nbsp\;Chianti Il Ristorante’s energetic and whimsical Executive \nChef Fabrizio will lead guests on a culinary journey through the Italian\n region of Puglia. Explore Italy and \nits flavors region by region\, learning tips from a master while you sip \nwine and watch a fantastic meal prepared from start to finish. Call \nChianti at 518-580-0025 for more details and to sign-up.
LOCATION:Chianti Il Ristorante
UID:e.2254.3561
SEQUENCE:3
DTSTAMP:20260424T110716Z
URL:https://chamber.saratoga.org/events/details/10-28-2014-10-28-2014-3561
END:VEVENT

END:VCALENDAR
