BEGIN:VCALENDAR
VERSION:2.0
PRODID:-//ChamberMaster//Event Calendar 2.0//EN
METHOD:PUBLISH
X-PUBLISHED-TTL:P3D
REFRESH-INTERVAL:P3D
CALSCALE:GREGORIAN
BEGIN:VEVENT
DTSTART:20141028T210000Z
DTEND:20141029T000000Z
X-MICROSOFT-CDO-ALLDAYEVENT:FALSE
SUMMARY:- 10/28/2014
DESCRIPTION:All the elements of Sam Raimi's cult classic films combined in one crazy theatrical experience the only musical where you can choose to sit in the "splatter zone" and get drenched from the mayhem\, or watch from a safe (dry) distance.Proctors Theater presents:Evil Dead The Musical - Tuesday\, October 28\, 2014 at 7:30pmProctors Theater\, 432 State Street\, Schenectady\, New York 12305Proctors? Theater presents & offering group seat discounts to:\nEvil Dead The Musical - Tuesday\, October 28\, 2014 at 7:30pm\nAny groups interested please contact Sara Hill At Proctors? \n382-3884 ext. 139 or ext. 152 \n20-49 tickets $49.90\, $36.40\, $27.50 and $20 Seats \n50 + tickets $44.80\, $32.80\, $24.80 and $20 Seats\nor visit on-line: www.proctors.org/group_sales\nJoin us for this hilarious theatrical experience.  Thank You.
X-ALT-DESC;FMTTYPE=text/html:<p>All the elements of Sam Raimi's cult classic films combined in one crazy theatrical experience the only musical where you can choose to sit in the "splatter zone" and get drenched from the mayhem\, or watch from a safe (dry) distance.</p><p>Proctors Theater presents:</p><p>Evil Dead The Musical - Tuesday\, October 28\, 2014 at 7:30pm</p><p>Proctors Theater\, 432 State Street\, Schenectady\, New York 12305</p><p>Proctors? Theater presents &amp\; offering group seat discounts to:<br>Evil Dead The Musical - Tuesday\, October 28\, 2014 at 7:30pm<br>Any groups interested please contact Sara Hill At Proctors? <br>382-3884 ext. 139 or ext. 152 <br>20-49 tickets $49.90\, $36.40\, $27.50 and $20 Seats <br>50 + tickets $44.80\, $32.80\, $24.80 and $20 Seats<br>or visit on-line: <a href="http://www.proctors.org/group_sales">www.proctors.org/group_sales</a><br>Join us for this hilarious theatrical experience.&nbsp\; Thank You.</p>
LOCATION:Proctors Theater
UID:e.2254.2172
SEQUENCE:3
DTSTAMP:20260424T110454Z
URL:https://chamber.saratoga.org/events/details/10-28-2014-10-28-2014-2172
END:VEVENT

END:VCALENDAR
