BEGIN:VCALENDAR
VERSION:2.0
PRODID:-//ChamberMaster//Event Calendar 2.0//EN
METHOD:PUBLISH
X-PUBLISHED-TTL:P3D
REFRESH-INTERVAL:P3D
CALSCALE:GREGORIAN
BEGIN:VEVENT
DTSTART:20141027T210000Z
DTEND:20141027T230000Z
X-MICROSOFT-CDO-ALLDAYEVENT:FALSE
SUMMARY:- 10/27/2014
DESCRIPTION:LWV of Saratoga County presents Candidate Forum112th NYS Assembly: Jared Hickey – Dem\, attending Jim Tedisco – Rep\, Con\, Ind.\,\, attending 49th NYS Senate: Hugh Farley – Rep\, Con\, Ind\, attending Madelyn Thorne – Dem\, WF\, attending
X-ALT-DESC;FMTTYPE=text/html:<p>LWV of Saratoga County presents Candidate Forum</p><p style=" "><span style="font-size: 10pt\; font-family: 'Courier New'\;">112th NYS Assembly:</span></p> <p style=" "><span style="font-size: 10pt\; font-family: 'Courier New'\;">Jared Hickey – Dem\, attending</span></p> <p style=" "><span style="font-size: 10pt\; font-family: 'Courier New'\;">Jim Tedisco – Rep\, Con\, Ind.\,\, attending</span></p> <p style=" "><span style="font-size: 10pt\; font-family: 'Courier New'\;">49th NYS Senate:</span></p> <p style=" "><span style="font-size: 10pt\; font-family: 'Courier New'\;">Hugh Farley – Rep\, Con\, Ind\, attending</span></p> <p style=" "><span style="font-size: 10pt\; font-family: 'Courier New'\;">Madelyn Thorne – Dem\, WF\, attending</span></p>
LOCATION:Ballston Spa High School
UID:e.2254.2190
SEQUENCE:3
DTSTAMP:20260424T110448Z
URL:https://chamber.saratoga.org/events/details/10-27-2014-10-27-2014-2190
END:VEVENT

END:VCALENDAR
